BEGIN:VCALENDAR
VERSION:2.0
PRODID:-//Kawaiahaʻo Church School - ECPv6.15.13.1//NONSGML v1.0//EN
CALSCALE:GREGORIAN
METHOD:PUBLISH
X-ORIGINAL-URL:https://www.kawaiahaoschool.org
X-WR-CALDESC:Events for Kawaiahaʻo Church School
REFRESH-INTERVAL;VALUE=DURATION:PT1H
X-Robots-Tag:noindex
X-PUBLISHED-TTL:PT1H
BEGIN:VTIMEZONE
TZID:Pacific/Honolulu
BEGIN:STANDARD
TZOFFSETFROM:-1000
TZOFFSETTO:-1000
TZNAME:HST
DTSTART:20240101T000000
END:STANDARD
END:VTIMEZONE
BEGIN:VEVENT
DTSTART;TZID=Pacific/Honolulu:20250425T090000
DTEND;TZID=Pacific/Honolulu:20250425T110000
DTSTAMP:20260419T184321
CREATED:20250116T022128Z
LAST-MODIFIED:20250116T022128Z
UID:5327-1745571600-1745578800@www.kawaiahaoschool.org
SUMMARY:Easter Egg Hunt
DESCRIPTION:
URL:https://www.kawaiahaoschool.org/event/easter-egg-hunt/
LOCATION:Kawaiaha’o Church
CATEGORIES:KPO
END:VEVENT
BEGIN:VEVENT
DTSTART;TZID=Pacific/Honolulu:20250430T154500
DTEND;TZID=Pacific/Honolulu:20250430T164500
DTSTAMP:20260419T184321
CREATED:20250116T021635Z
LAST-MODIFIED:20250116T021635Z
UID:5323-1746027900-1746031500@www.kawaiahaoschool.org
SUMMARY:KPO Meeting
DESCRIPTION:
URL:https://www.kawaiahaoschool.org/event/kpo-meeting-26/
LOCATION:Kawaiaha’o Church School Gymnasium Youth Room
CATEGORIES:KPO
END:VEVENT
BEGIN:VEVENT
DTSTART;TZID=Pacific/Honolulu:20250502T090000
DTEND;TZID=Pacific/Honolulu:20250502T100000
DTSTAMP:20260419T184321
CREATED:20240701T200104Z
LAST-MODIFIED:20240701T200104Z
UID:4874-1746176400-1746180000@www.kawaiahaoschool.org
SUMMARY:May Day
DESCRIPTION:School Ends at 12pm
URL:https://www.kawaiahaoschool.org/event/may-day-2/
END:VEVENT
BEGIN:VEVENT
DTSTART;VALUE=DATE:20250506
DTEND;VALUE=DATE:20250507
DTSTAMP:20260419T184321
CREATED:20240701T200206Z
LAST-MODIFIED:20240701T200206Z
UID:4876-1746489600-1746575999@www.kawaiahaoschool.org
SUMMARY:Teacher Appreciation Day
DESCRIPTION:
URL:https://www.kawaiahaoschool.org/event/teacher-appreciation-day-3/
END:VEVENT
BEGIN:VEVENT
DTSTART;TZID=Pacific/Honolulu:20250521T154500
DTEND;TZID=Pacific/Honolulu:20250521T164500
DTSTAMP:20260419T184321
CREATED:20250116T021732Z
LAST-MODIFIED:20250116T021732Z
UID:5325-1747842300-1747845900@www.kawaiahaoschool.org
SUMMARY:KPO Meeting
DESCRIPTION:
URL:https://www.kawaiahaoschool.org/event/kpo-meeting-27/
LOCATION:Kawaiaha’o Church School Gymnasium Youth Room
CATEGORIES:KPO
END:VEVENT
BEGIN:VEVENT
DTSTART;VALUE=DATE:20250526
DTEND;VALUE=DATE:20250527
DTSTAMP:20260419T184321
CREATED:20240701T200231Z
LAST-MODIFIED:20240701T200231Z
UID:4878-1748217600-1748303999@www.kawaiahaoschool.org
SUMMARY:Memorial Day Holiday
DESCRIPTION:
URL:https://www.kawaiahaoschool.org/event/memorial-day-holiday-5/
CATEGORIES:Holiday
END:VEVENT
BEGIN:VEVENT
DTSTART;VALUE=DATE:20250528
DTEND;VALUE=DATE:20250529
DTSTAMP:20260419T184321
CREATED:20240701T200259Z
LAST-MODIFIED:20240701T200259Z
UID:4880-1748390400-1748476799@www.kawaiahaoschool.org
SUMMARY:Last Day of School
DESCRIPTION:
URL:https://www.kawaiahaoschool.org/event/last-day-of-school-3/
END:VEVENT
BEGIN:VEVENT
DTSTART;VALUE=DATE:20250602
DTEND;VALUE=DATE:20250701
DTSTAMP:20260419T184321
CREATED:20240701T203622Z
LAST-MODIFIED:20240701T203622Z
UID:4884-1748822400-1751327999@www.kawaiahaoschool.org
SUMMARY:Kula Kauwela Session 1
DESCRIPTION:
URL:https://www.kawaiahaoschool.org/event/kula-kauwela-session-1/
END:VEVENT
BEGIN:VEVENT
DTSTART;VALUE=DATE:20250611
DTEND;VALUE=DATE:20250612
DTSTAMP:20260419T184321
CREATED:20240701T203655Z
LAST-MODIFIED:20240701T203655Z
UID:4886-1749600000-1749686399@www.kawaiahaoschool.org
SUMMARY:Kamehameha Day Holiday
DESCRIPTION:
URL:https://www.kawaiahaoschool.org/event/kamehameha-day-holiday-4/
CATEGORIES:Holiday
END:VEVENT
BEGIN:VEVENT
DTSTART;VALUE=DATE:20250701
DTEND;VALUE=DATE:20250801
DTSTAMP:20260419T184321
CREATED:20240701T203815Z
LAST-MODIFIED:20240701T203815Z
UID:4890-1751328000-1754006399@www.kawaiahaoschool.org
SUMMARY:Kula Kauwela Session II
DESCRIPTION:
URL:https://www.kawaiahaoschool.org/event/kula-kauwela-session-ii/
END:VEVENT
BEGIN:VEVENT
DTSTART;VALUE=DATE:20250704
DTEND;VALUE=DATE:20250705
DTSTAMP:20260419T184321
CREATED:20240701T203848Z
LAST-MODIFIED:20250613T221223Z
UID:4892-1751587200-1751673599@www.kawaiahaoschool.org
SUMMARY:July 4th Holiday - NO SCHOOL
DESCRIPTION:
URL:https://www.kawaiahaoschool.org/event/july-4th-holiday-2/
CATEGORIES:Holiday
END:VEVENT
BEGIN:VEVENT
DTSTART;TZID=Pacific/Honolulu:20250717T080000
DTEND;TZID=Pacific/Honolulu:20250717T120000
DTSTAMP:20260419T184321
CREATED:20250613T221437Z
LAST-MODIFIED:20250613T222224Z
UID:5469-1752739200-1752753600@www.kawaiahaoschool.org
SUMMARY:Huakaʻi to KOKA (Keiki O Ka ʻĀina) for Kamaliʻi (preschool)
DESCRIPTION:
URL:https://www.kawaiahaoschool.org/event/huaka%ca%bbi-to-koka-for-kamali%ca%bbi-preschool/
END:VEVENT
BEGIN:VEVENT
DTSTART;VALUE=DATE:20250801
DTEND;VALUE=DATE:20250802
DTSTAMP:20260419T184321
CREATED:20250508T222132Z
LAST-MODIFIED:20250508T222132Z
UID:5446-1754006400-1754092799@www.kawaiahaoschool.org
SUMMARY:Staff Work Week
DESCRIPTION:
URL:https://www.kawaiahaoschool.org/event/staff-work-week/
END:VEVENT
BEGIN:VEVENT
DTSTART;VALUE=DATE:20250802
DTEND;VALUE=DATE:20250803
DTSTAMP:20260419T184321
CREATED:20250508T222320Z
LAST-MODIFIED:20250508T222733Z
UID:5448-1754092800-1754179199@www.kawaiahaoschool.org
SUMMARY:Staff Work  Week
DESCRIPTION:
URL:https://www.kawaiahaoschool.org/event/staff-work-week-2/
END:VEVENT
BEGIN:VEVENT
DTSTART;VALUE=DATE:20250804
DTEND;VALUE=DATE:20250809
DTSTAMP:20260419T184321
CREATED:20250508T222552Z
LAST-MODIFIED:20250613T222314Z
UID:5450-1754265600-1754697599@www.kawaiahaoschool.org
SUMMARY:Staff Work Week
DESCRIPTION:
URL:https://www.kawaiahaoschool.org/event/staff-work-week-3/
END:VEVENT
BEGIN:VEVENT
DTSTART;VALUE=DATE:20250811
DTEND;VALUE=DATE:20250815
DTSTAMP:20260419T184321
CREATED:20250508T223004Z
LAST-MODIFIED:20250508T223403Z
UID:5453-1754870400-1755215999@www.kawaiahaoschool.org
SUMMARY:Staff Work Week
DESCRIPTION:
URL:https://www.kawaiahaoschool.org/event/staff-work-week-4/
END:VEVENT
BEGIN:VEVENT
DTSTART;TZID=Pacific/Honolulu:20250814T150000
DTEND;TZID=Pacific/Honolulu:20250814T160000
DTSTAMP:20260419T184321
CREATED:20250508T222026Z
LAST-MODIFIED:20250508T222026Z
UID:5444-1755183600-1755187200@www.kawaiahaoschool.org
SUMMARY:Parent Orientation
DESCRIPTION:
URL:https://www.kawaiahaoschool.org/event/parent-orientation-4/
END:VEVENT
BEGIN:VEVENT
DTSTART;VALUE=DATE:20250815
DTEND;VALUE=DATE:20250816
DTSTAMP:20260419T184321
CREATED:20250508T223216Z
LAST-MODIFIED:20250508T223216Z
UID:5456-1755216000-1755302399@www.kawaiahaoschool.org
SUMMARY:Admissions Day Holiday - NO SCHOOL
DESCRIPTION:
URL:https://www.kawaiahaoschool.org/event/admissions-day-holiday-no-school/
END:VEVENT
BEGIN:VEVENT
DTSTART;VALUE=DATE:20250818
DTEND;VALUE=DATE:20250819
DTSTAMP:20260419T184321
CREATED:20250508T223323Z
LAST-MODIFIED:20250508T223323Z
UID:5459-1755475200-1755561599@www.kawaiahaoschool.org
SUMMARY:First Day of School
DESCRIPTION:
URL:https://www.kawaiahaoschool.org/event/first-day-of-school-8/
END:VEVENT
BEGIN:VEVENT
DTSTART;VALUE=DATE:20250901
DTEND;VALUE=DATE:20250902
DTSTAMP:20260419T184321
CREATED:20250508T221758Z
LAST-MODIFIED:20250508T221758Z
UID:5442-1756684800-1756771199@www.kawaiahaoschool.org
SUMMARY:Labor Day Holiday - NO SCHOOL
DESCRIPTION:
URL:https://www.kawaiahaoschool.org/event/labor-day-holiday-no-school/
END:VEVENT
BEGIN:VEVENT
DTSTART;TZID=Pacific/Honolulu:20250903T154500
DTEND;TZID=Pacific/Honolulu:20250903T164500
DTSTAMP:20260419T184321
CREATED:20250826T055826Z
LAST-MODIFIED:20250827T030647Z
UID:5609-1756914300-1756917900@www.kawaiahaoschool.org
SUMMARY:KPO in Person Meeting Kawaiaha'o Gym
DESCRIPTION:All families are required to serve at least 10 hours of service — but many stay involved well beyond that because it’s fun\, meaningful\, and truly makes a difference! \nExplore ways to get involved: \n\n\n🎨 Creative & Decorating-All Events \n\n\n🖥 Graphics & Design / Media (photography\, videography\, digital marketing) Walk-A-Thon \n\n\n💡 Fundraising\, Networking & Marketing-Year Round \n\n\n🍪 Food & Beverage / Kitchen Helpers (cooking\, baking\, serving)-Movie Night/City Lights Parade \n\n\n🎶 Entertainment (musicians\, dancers)-MayDay \n\n\n⚽ Athletics / Games / Team-Building-Movie Night/Walk-A-Thon \n\n\n🛠 Labor (set up\, break down)-All events \n\n\n💵 Treasurer & Purchasing-Events \n\n\n🎥 Audio/Visual / Tech (Movie Night /Walk-A-thon support) \n\n\n🎨 Arts & Crafts \n\n\n🤝 Sales (recruit sponsors and donors) \n\n\nCome see how your talents can shine — and how you can help make a lasting impact!
URL:https://www.kawaiahaoschool.org/event/kpo-in-person-meeting-kawaiahao-gym/
END:VEVENT
BEGIN:VEVENT
DTSTART;TZID=Pacific/Honolulu:20250912T170000
DTEND;TZID=Pacific/Honolulu:20250912T200000
DTSTAMP:20260419T184321
CREATED:20250828T173110Z
LAST-MODIFIED:20250828T173110Z
UID:5673-1757696400-1757707200@www.kawaiahaoschool.org
SUMMARY:KPO Movie Night Fundraiser- Trolls
DESCRIPTION:🎬 Save the Date! KPO Movie Night Fundraiser 🎬 \nJoin us for an evening of fun\, fellowship\, and friends at Kawaiahaʻo Gym! \nDate: Friday\, September 12Time: 5:00 – 8:00 PM \n\n\nDoors open at 5:00 PM \n\n\nMovie starts at 6:00 PM — TROLLS on the big screen! \n\n\nTickets and snacks will be available for purchase — all proceeds support KPO projects and our keiki! \nBring your ʻohana\, grab some goodies\, and enjoy a night supporting our school community. Don’t miss it!
URL:https://www.kawaiahaoschool.org/event/kpo-movie-night-fundraiser-trolls/
LOCATION:Kawaiahaʻo Church School gymnasium
END:VEVENT
BEGIN:VEVENT
DTSTART;TZID=Pacific/Honolulu:20250916T080000
DTEND;TZID=Pacific/Honolulu:20250916T100000
DTSTAMP:20260419T184321
CREATED:20250826T053643Z
LAST-MODIFIED:20250827T173404Z
UID:5601-1758009600-1758016800@www.kawaiahaoschool.org
SUMMARY:Picture Taking Day- Papa Lilinoe/Papa Ulu/Papa Mālaaʻo
DESCRIPTION:Evoto \nPerfect Portraits – Picture Day is Almost Here! 📸😁✨Get those smiles ready — it’s time to shine! 🌟 \n\n\nSept. 16: 🌸 Papa Lilinoe • 🌴 Papa Ulu • 🍃 Papa Mālaaʻo \n\n\nDress your best in Aloha 🌈 or Dressy Casual 👗👕 — we can’t wait to capture your keiki’s bright smiles and big personalities! 🐻💖
URL:https://www.kawaiahaoschool.org/event/picture-taking-day/
END:VEVENT
BEGIN:VEVENT
DTSTART;TZID=Pacific/Honolulu:20250917T080000
DTEND;TZID=Pacific/Honolulu:20250917T100000
DTSTAMP:20260419T184321
CREATED:20250826T054146Z
LAST-MODIFIED:20250827T173526Z
UID:5607-1758096000-1758103200@www.kawaiahaoschool.org
SUMMARY:Picture Taking Day-Papa Lehua & Papa Kalo
DESCRIPTION:Evoto \nEvoto \nPerfect Portraits – Picture Day is Almost Here! 📸😁✨\nGet those smiles ready — it’s time to shine! 🌟 \nSept. 17: 🌺 Papa Lehua • 🥥 Papa Kalo \nDress your best in Aloha 🌈 or Dressy Casual 👗👕 — we can’t wait to capture your keiki’s bright smiles and big personalities! 🐻💖
URL:https://www.kawaiahaoschool.org/event/picture-taking-day-2/
END:VEVENT
BEGIN:VEVENT
DTSTART;TZID=Pacific/Honolulu:20250924T080000
DTEND;TZID=Pacific/Honolulu:20250924T083000
DTSTAMP:20260419T184321
CREATED:20250508T221659Z
LAST-MODIFIED:20250827T174311Z
UID:5440-1758700800-1758702600@www.kawaiahaoschool.org
SUMMARY:Hale Pule (Chapel) Kawaiahaʻo Church
DESCRIPTION:All parents and extended ʻohana are warmly invited to join us for our monthly Hale Pule (chapel service)\, where Kahu Kenneth Makuakāne will share an uplifting message with our haumāna. As the ʻōlelo noʻeau says\, “ʻAʻohe mea nana e hoʻohilahila i ke Akua” — “No one can cause God to be ashamed.” We welcome you to come in aloha or dressy casual attire. Doors to Kawaiahaʻo Church open at 7:45 a.m.
URL:https://www.kawaiahaoschool.org/event/hale-pule-2/
END:VEVENT
BEGIN:VEVENT
DTSTART;TZID=Pacific/Honolulu:20250927T070000
DTEND;TZID=Pacific/Honolulu:20250927T120000
DTSTAMP:20260419T184321
CREATED:20250826T060630Z
LAST-MODIFIED:20250826T060630Z
UID:5611-1758956400-1758974400@www.kawaiahaoschool.org
SUMMARY:Aloha Week Parade
DESCRIPTION:Join Us for the Aloha Week Parade! 🌺🚎 \nCome be part of the festivities as we holoholo in style aboard our double-decker\, decked-out trolley — proudly representing Kawaiahaʻo Church School alongside new friends\, teachers\, alumni\, and our extended community ʻohana! \nThis is a wonderful opportunity to celebrate together and experience the iconic Aloha Week Parade through Waikīkī. \nCalling all our fitness enthusiasts! 🏃‍♀️🏃‍♂️ Lead the way by walking alongside our trolley as true ambassadors of our historic Kawaiahaʻo Church ʻOhana. \nLet’s show our school pride\, share our aloha\, and make memories together! 🌈🎶
URL:https://www.kawaiahaoschool.org/event/aloha-week-parade/
END:VEVENT
BEGIN:VEVENT
DTSTART;VALUE=DATE:20251013
DTEND;VALUE=DATE:20251014
DTSTAMP:20260419T184321
CREATED:20250613T222454Z
LAST-MODIFIED:20250613T222454Z
UID:5476-1760313600-1760399999@www.kawaiahaoschool.org
SUMMARY:Indigenous People Day Holiday - NO SCHOOL
DESCRIPTION:
URL:https://www.kawaiahaoschool.org/event/indigenous-people-day-holiday-no-school/
END:VEVENT
BEGIN:VEVENT
DTSTART;TZID=Pacific/Honolulu:20251024T150000
DTEND;TZID=Pacific/Honolulu:20251024T170000
DTSTAMP:20260419T184321
CREATED:20250613T223040Z
LAST-MODIFIED:20251011T015835Z
UID:5482-1761318000-1761325200@www.kawaiahaoschool.org
SUMMARY:WALK-A-THON Fundraising Event
DESCRIPTION:Join us for Kawaiahaʻo Church School’s Annual Walk-A-Thon! \nThis year’s theme is a Flashback to the ’70s and ’80s — complete with a parent-and-keiki dance-off! Cheer on our haumāna as they walk\, jog\, and skip laps around the gymnasium to see just how far they can go — and find out who will be crowned the top dancer in each class! \nYour sponsorship helps support our keiki and keeps our amazing kula — this hidden gem in the heart of Honolulu — shining bright. Donations can be made anytime via PayPal using the button below. \nSo pull out your bell bottoms\, lace up those sneakers\, and come join the fun! Walk\, dance\, or just cheer us on — every step helps raise funds for our school’s future. \nOur Walkathon page is https://www.kawaiahaoschool.org/walkathon/.
URL:https://www.kawaiahaoschool.org/event/walk-a-thon-fundraising-event/
END:VEVENT
BEGIN:VEVENT
DTSTART;VALUE=DATE:20251027
DTEND;VALUE=DATE:20251101
DTSTAMP:20260419T184321
CREATED:20250613T222911Z
LAST-MODIFIED:20250613T222911Z
UID:5479-1761523200-1761955199@www.kawaiahaoschool.org
SUMMARY:KCS Spirit Week!
DESCRIPTION:
URL:https://www.kawaiahaoschool.org/event/kcs-spirit-week/
END:VEVENT
BEGIN:VEVENT
DTSTART;TZID=Pacific/Honolulu:20251029T080000
DTEND;TZID=Pacific/Honolulu:20251029T083000
DTSTAMP:20260419T184321
CREATED:20250613T223357Z
LAST-MODIFIED:20250613T223357Z
UID:5487-1761724800-1761726600@www.kawaiahaoschool.org
SUMMARY:Hale Pule (Chapel)
DESCRIPTION:
URL:https://www.kawaiahaoschool.org/event/hale-pule-chapel-2/
END:VEVENT
END:VCALENDAR