BEGIN:VCALENDAR
VERSION:2.0
PRODID:-//Kawaiahaʻo Church School - ECPv6.15.13.1//NONSGML v1.0//EN
CALSCALE:GREGORIAN
METHOD:PUBLISH
X-WR-CALNAME:Kawaiahaʻo Church School
X-ORIGINAL-URL:https://www.kawaiahaoschool.org
X-WR-CALDESC:Events for Kawaiahaʻo Church School
REFRESH-INTERVAL;VALUE=DURATION:PT1H
X-Robots-Tag:noindex
X-PUBLISHED-TTL:PT1H
BEGIN:VTIMEZONE
TZID:Pacific/Honolulu
BEGIN:STANDARD
TZOFFSETFROM:-1000
TZOFFSETTO:-1000
TZNAME:HST
DTSTART:20200101T000000
END:STANDARD
END:VTIMEZONE
BEGIN:VEVENT
DTSTART;VALUE=DATE:20220415
DTEND;VALUE=DATE:20220416
DTSTAMP:20260419T171555
CREATED:20210430T000923Z
LAST-MODIFIED:20210430T000923Z
UID:3466-1649980800-1650067199@www.kawaiahaoschool.org
SUMMARY:Good Friday Holiday
DESCRIPTION:Good Friday Holiday- no school
URL:https://www.kawaiahaoschool.org/event/good-friday-holiday-2/
END:VEVENT
BEGIN:VEVENT
DTSTART;VALUE=DATE:20220314
DTEND;VALUE=DATE:20220319
DTSTAMP:20260419T171555
CREATED:20210430T000806Z
LAST-MODIFIED:20210430T001442Z
UID:3462-1647216000-1647647999@www.kawaiahaoschool.org
SUMMARY:Spring Break
DESCRIPTION:Spring Break- no school from March 14-18
URL:https://www.kawaiahaoschool.org/event/spring-break-4/
END:VEVENT
BEGIN:VEVENT
DTSTART;VALUE=DATE:20220221
DTEND;VALUE=DATE:20220222
DTSTAMP:20260419T171555
CREATED:20210430T000727Z
LAST-MODIFIED:20210430T000727Z
UID:3460-1645401600-1645487999@www.kawaiahaoschool.org
SUMMARY:President's Day Holiday
DESCRIPTION:President’s Day Holiday- no school
URL:https://www.kawaiahaoschool.org/event/presidents-day-holiday-3/
END:VEVENT
BEGIN:VEVENT
DTSTART;VALUE=DATE:20220117
DTEND;VALUE=DATE:20220118
DTSTAMP:20260419T171555
CREATED:20210430T000231Z
LAST-MODIFIED:20210430T000552Z
UID:3458-1642377600-1642463999@www.kawaiahaoschool.org
SUMMARY:Martin Luther King\, Jr. Holiday
DESCRIPTION:Martin Luther King\, Jr. Holiday- no school
URL:https://www.kawaiahaoschool.org/event/martin-luther-king-jr-holiday/
END:VEVENT
BEGIN:VEVENT
DTSTART;VALUE=DATE:20211220
DTEND;VALUE=DATE:20220104
DTSTAMP:20260419T171555
CREATED:20210430T000142Z
LAST-MODIFIED:20210430T000142Z
UID:3456-1639958400-1641254399@www.kawaiahaoschool.org
SUMMARY:Winter Break
DESCRIPTION:Winter Break from December 20\, 2021 through January 3\, 2022.  Students will return to school on January 4\, 2022.
URL:https://www.kawaiahaoschool.org/event/winter-break-4/
END:VEVENT
BEGIN:VEVENT
DTSTART;VALUE=DATE:20211125
DTEND;VALUE=DATE:20211127
DTSTAMP:20260419T171555
CREATED:20210430T000009Z
LAST-MODIFIED:20210430T000009Z
UID:3454-1637798400-1637971199@www.kawaiahaoschool.org
SUMMARY:Thanksgiving Holiday
DESCRIPTION:Happy Thanksgiving!  School will be closed on November 25th and 26th.
URL:https://www.kawaiahaoschool.org/event/thanksgiving-holiday-4/
END:VEVENT
BEGIN:VEVENT
DTSTART;VALUE=DATE:20211111
DTEND;VALUE=DATE:20211112
DTSTAMP:20260419T171555
CREATED:20210429T235921Z
LAST-MODIFIED:20210429T235921Z
UID:3452-1636588800-1636675199@www.kawaiahaoschool.org
SUMMARY:Veteran's Day Holiday
DESCRIPTION:Veteran’s Day Holiday- no school
URL:https://www.kawaiahaoschool.org/event/veterans-day-holiday-4/
END:VEVENT
BEGIN:VEVENT
DTSTART;VALUE=DATE:20211011
DTEND;VALUE=DATE:20211012
DTSTAMP:20260419T171555
CREATED:20210429T235842Z
LAST-MODIFIED:20210429T235842Z
UID:3450-1633910400-1633996799@www.kawaiahaoschool.org
SUMMARY:Columbus Day Holiday
DESCRIPTION:Columbus Day Holiday- no school
URL:https://www.kawaiahaoschool.org/event/columbus-day-holiday-3/
END:VEVENT
BEGIN:VEVENT
DTSTART;VALUE=DATE:20210906
DTEND;VALUE=DATE:20210907
DTSTAMP:20260419T171555
CREATED:20210429T235657Z
LAST-MODIFIED:20210429T235657Z
UID:3446-1630886400-1630972799@www.kawaiahaoschool.org
SUMMARY:Labor Day Holiday
DESCRIPTION:Labor Day Holiday- no school
URL:https://www.kawaiahaoschool.org/event/labor-day-holiday-4/
END:VEVENT
BEGIN:VEVENT
DTSTART;VALUE=DATE:20210820
DTEND;VALUE=DATE:20210821
DTSTAMP:20260419T171555
CREATED:20210429T235626Z
LAST-MODIFIED:20210429T235626Z
UID:3444-1629417600-1629503999@www.kawaiahaoschool.org
SUMMARY:Statehood Day Holiday
DESCRIPTION:Statehood Day Holiday- no school
URL:https://www.kawaiahaoschool.org/event/statehood-day-holiday/
END:VEVENT
BEGIN:VEVENT
DTSTART;VALUE=DATE:20210820
DTEND;VALUE=DATE:20210821
DTSTAMP:20260419T171555
CREATED:20200723T234716Z
LAST-MODIFIED:20200723T234716Z
UID:3101-1629417600-1629503999@www.kawaiahaoschool.org
SUMMARY:Holiday-no school
DESCRIPTION:
URL:https://www.kawaiahaoschool.org/event/holiday-no-school-11/
END:VEVENT
BEGIN:VEVENT
DTSTART;VALUE=DATE:20210816
DTEND;VALUE=DATE:20210817
DTSTAMP:20260419T171555
CREATED:20210616T202229Z
LAST-MODIFIED:20210616T202233Z
UID:3512-1629072000-1629158399@www.kawaiahaoschool.org
SUMMARY:First Day of School
DESCRIPTION:Fall 2021-22 School Year Begins!
URL:https://www.kawaiahaoschool.org/event/first-day-of-school-5/
END:VEVENT
BEGIN:VEVENT
DTSTART;TZID=Pacific/Honolulu:20210810T150000
DTEND;TZID=Pacific/Honolulu:20210810T160000
DTSTAMP:20260419T171555
CREATED:20210713T195534Z
LAST-MODIFIED:20210713T195906Z
UID:3606-1628607600-1628611200@www.kawaiahaoschool.org
SUMMARY:Parent Orientation  for Papa Kupukupu\, Papa ʻUlu\, and Papa Lilinoe
DESCRIPTION:We will be hosting Parent Orientation over the course of 3 days to allow for smaller groups. The groups are as follows\, please come on the date/time listed below for your keiki’s class: \nTuesday\, August 10th at 3:00-4:00pm \n· Papa Lilinoe (2 year old class led by Aunty Cheyenne and Aunty Perla) \n· Papa ʻUlu (2 year old class led by Aunty Takami\, Aunty Tina\, and Aunty Taryn) \n· Papa Kupukupu (primary class led by Aunty Kapua and Aunty Rahel) \nIf you have any questions on your keiki’s classroom assignments\, please contact Aunty Mahi with Admissions at (808) 585-0622. Please arrive promptly at 3:00pm on your class’s respective date. Please allow for time to find street parking along Mission Lane\, Punchbowl\, or South Street. \nWe will be starting the Parent Orientation together with our School Director\, Aunty Dee Manabe\, in the school courtyard at 3:00pm. In the event of inclement weather\, we will be meeting in the school gymnasium. We ask that everyone practice social distancing as much as possible\, and please wear masks at all times\, even while outdoors. We want to make sure we are heading into the school year as safely as possible.
URL:https://www.kawaiahaoschool.org/event/parent-orientation-for-papa-kupukupu-papa-%ca%bbulu-and-papa-lilinoe/
END:VEVENT
BEGIN:VEVENT
DTSTART;TZID=Pacific/Honolulu:20210722T144500
DTEND;TZID=Pacific/Honolulu:20210722T153000
DTSTAMP:20260419T171555
CREATED:20210429T212052Z
LAST-MODIFIED:20210429T212052Z
UID:3439-1626965100-1626967800@www.kawaiahaoschool.org
SUMMARY:School Tour
DESCRIPTION:We offer school tours about twice-a-month\, or by appointment if there is an opening in the respective program. This is a chance for prospective families to visit our school.  Please register for a School Tour using this link. \nDue to COVID-19 precautions\, we are not offering school tours during school hours. We also limit the groups to less than 7 people and ask that all attendees wear masks and practice social distancing. The majority of the school tour will be done outdoors\, with a chance to walk through some classrooms. \nDIRECTIONS/PARKING \nWe are located near Honolulu Hale and Kawaiahaʻo Church on 872 Mission Lane\, just past the Mission Houses in downtown Honolulu. \nParking can be limited. Please arrive early to allow time to find time for parking: \n1. There are 4 designated drop off/pick up stalls on the left side of our staff parking lot (entrance to the staff lot is on the right\, just after our school).  You may use these stalls\, or any open stalls\, that are not reserved. \n2. There is also metered parking along Kawaiahaʻo Street\, Mission Lane\, South Street\, and Punchbowl Street. \nOnce you park and head towards 872 Mission Lane\,  the entrance of our school is facing Ewa (towards the Kawaiahaʻo Church clock tower). \nYou will see a fire lane near the playground structures\, so please walk down that lane and turn the corner\, where you will see a courtyard and flagpole. Please wait near the flagpole at the entrance of our school\, or check in at (right next to the flagpole) \, where we will do a short welcome and orientation. \nPlease notify us as soon as possible\, if you are not able to make it to the tour\, or would like to reschedule\, so we can offer the space to another interested family. Mahalo and we look forward to meeting with you!
URL:https://www.kawaiahaoschool.org/event/school-tour-35/
END:VEVENT
BEGIN:VEVENT
DTSTART;TZID=Pacific/Honolulu:20210713T144500
DTEND;TZID=Pacific/Honolulu:20210713T153000
DTSTAMP:20260419T171555
CREATED:20210429T212017Z
LAST-MODIFIED:20210429T212017Z
UID:3437-1626187500-1626190200@www.kawaiahaoschool.org
SUMMARY:School Tour
DESCRIPTION:We offer school tours about twice-a-month\, or by appointment if there is an opening in the respective program. This is a chance for prospective families to visit our school.  Please register for a School Tour using this link. \nDue to COVID-19 precautions\, we are not offering school tours during school hours. We also limit the groups to less than 7 people and ask that all attendees wear masks and practice social distancing. The majority of the school tour will be done outdoors\, with a chance to walk through some classrooms. \nDIRECTIONS/PARKING \nWe are located near Honolulu Hale and Kawaiahaʻo Church on 872 Mission Lane\, just past the Mission Houses in downtown Honolulu. \nParking can be limited. Please arrive early to allow time to find time for parking: \n1. There are 4 designated drop off/pick up stalls on the left side of our staff parking lot (entrance to the staff lot is on the right\, just after our school).  You may use these stalls\, or any open stalls\, that are not reserved. \n2. There is also metered parking along Kawaiahaʻo Street\, Mission Lane\, South Street\, and Punchbowl Street. \nOnce you park and head towards 872 Mission Lane\,  the entrance of our school is facing Ewa (towards the Kawaiahaʻo Church clock tower). \nYou will see a fire lane near the playground structures\, so please walk down that lane and turn the corner\, where you will see a courtyard and flagpole. Please wait near the flagpole at the entrance of our school\, or check in at (right next to the flagpole) \, where we will do a short welcome and orientation. \nPlease notify us as soon as possible\, if you are not able to make it to the tour\, or would like to reschedule\, so we can offer the space to another interested family. Mahalo and we look forward to meeting with you!
URL:https://www.kawaiahaoschool.org/event/school-tour-33/
END:VEVENT
BEGIN:VEVENT
DTSTART;VALUE=DATE:20210705
DTEND;VALUE=DATE:20210706
DTSTAMP:20260419T171555
CREATED:20200723T234500Z
LAST-MODIFIED:20200723T234500Z
UID:3095-1625443200-1625529599@www.kawaiahaoschool.org
SUMMARY:Holiday- no school
DESCRIPTION:
URL:https://www.kawaiahaoschool.org/event/holiday-no-school-10/
END:VEVENT
BEGIN:VEVENT
DTSTART;VALUE=DATE:20210701
DTEND;VALUE=DATE:20210731
DTSTAMP:20260419T171555
CREATED:20200723T234538Z
LAST-MODIFIED:20210429T235436Z
UID:3097-1625097600-1627689599@www.kawaiahaoschool.org
SUMMARY:Summer Session 2
DESCRIPTION:Summer Session 2 runs from July 1\, 2021- July 30\, 2021 \nThis session is for Primary and Elementary Programs (our 2 year old program is a year-round program)
URL:https://www.kawaiahaoschool.org/event/summer-session-2/
END:VEVENT
BEGIN:VEVENT
DTSTART;TZID=Pacific/Honolulu:20210624T144500
DTEND;TZID=Pacific/Honolulu:20210624T153000
DTSTAMP:20260419T171555
CREATED:20210429T211942Z
LAST-MODIFIED:20210429T211942Z
UID:3435-1624545900-1624548600@www.kawaiahaoschool.org
SUMMARY:School Tour
DESCRIPTION:We offer school tours about twice-a-month\, or by appointment if there is an opening in the respective program. This is a chance for prospective families to visit our school.  Please register for a School Tour using this link. \nDue to COVID-19 precautions\, we are not offering school tours during school hours. We also limit the groups to less than 7 people and ask that all attendees wear masks and practice social distancing. The majority of the school tour will be done outdoors\, with a chance to walk through some classrooms. \nDIRECTIONS/PARKING \nWe are located near Honolulu Hale and Kawaiahaʻo Church on 872 Mission Lane\, just past the Mission Houses in downtown Honolulu. \nParking can be limited. Please arrive early to allow time to find time for parking: \n1. There are 4 designated drop off/pick up stalls on the left side of our staff parking lot (entrance to the staff lot is on the right\, just after our school).  You may use these stalls\, or any open stalls\, that are not reserved. \n2. There is also metered parking along Kawaiahaʻo Street\, Mission Lane\, South Street\, and Punchbowl Street. \nOnce you park and head towards 872 Mission Lane\,  the entrance of our school is facing Ewa (towards the Kawaiahaʻo Church clock tower). \nYou will see a fire lane near the playground structures\, so please walk down that lane and turn the corner\, where you will see a courtyard and flagpole. Please wait near the flagpole at the entrance of our school\, or check in at (right next to the flagpole) \, where we will do a short welcome and orientation. \nPlease notify us as soon as possible\, if you are not able to make it to the tour\, or would like to reschedule\, so we can offer the space to another interested family. Mahalo and we look forward to meeting with you!
URL:https://www.kawaiahaoschool.org/event/school-tour-32/
END:VEVENT
BEGIN:VEVENT
DTSTART;TZID=Pacific/Honolulu:20210615T144500
DTEND;TZID=Pacific/Honolulu:20210615T153000
DTSTAMP:20260419T171555
CREATED:20210429T211903Z
LAST-MODIFIED:20210429T211903Z
UID:3433-1623768300-1623771000@www.kawaiahaoschool.org
SUMMARY:School Tour
DESCRIPTION:We offer school tours about twice-a-month\, or by appointment if there is an opening in the respective program. This is a chance for prospective families to visit our school.  Please register for a School Tour using this link. \nDue to COVID-19 precautions\, we are not offering school tours during school hours. We also limit the groups to less than 7 people and ask that all attendees wear masks and practice social distancing. The majority of the school tour will be done outdoors\, with a chance to walk through some classrooms. \nDIRECTIONS/PARKING \nWe are located near Honolulu Hale and Kawaiahaʻo Church on 872 Mission Lane\, just past the Mission Houses in downtown Honolulu. \nParking can be limited. Please arrive early to allow time to find time for parking: \n1. There are 4 designated drop off/pick up stalls on the left side of our staff parking lot (entrance to the staff lot is on the right\, just after our school).  You may use these stalls\, or any open stalls\, that are not reserved. \n2. There is also metered parking along Kawaiahaʻo Street\, Mission Lane\, South Street\, and Punchbowl Street. \nOnce you park and head towards 872 Mission Lane\,  the entrance of our school is facing Ewa (towards the Kawaiahaʻo Church clock tower). \nYou will see a fire lane near the playground structures\, so please walk down that lane and turn the corner\, where you will see a courtyard and flagpole. Please wait near the flagpole at the entrance of our school\, or check in at (right next to the flagpole) \, where we will do a short welcome and orientation. \nPlease notify us as soon as possible\, if you are not able to make it to the tour\, or would like to reschedule\, so we can offer the space to another interested family. Mahalo and we look forward to meeting with you!
URL:https://www.kawaiahaoschool.org/event/school-tour-30/
END:VEVENT
BEGIN:VEVENT
DTSTART;VALUE=DATE:20210611
DTEND;VALUE=DATE:20210612
DTSTAMP:20260419T171555
CREATED:20200723T234433Z
LAST-MODIFIED:20200723T234433Z
UID:3093-1623369600-1623455999@www.kawaiahaoschool.org
SUMMARY:Holiday- no school
DESCRIPTION:
URL:https://www.kawaiahaoschool.org/event/holiday-no-school-9/
END:VEVENT
BEGIN:VEVENT
DTSTART;VALUE=DATE:20210603
DTEND;VALUE=DATE:20210604
DTSTAMP:20260419T171555
CREATED:20210429T195506Z
LAST-MODIFIED:20210429T195506Z
UID:3429-1622678400-1622764799@www.kawaiahaoschool.org
SUMMARY:Summer session 1 for Kindergarten and Elementary
DESCRIPTION:Summer Session 1 begins for Kindergarten and Elementary
URL:https://www.kawaiahaoschool.org/event/summer-session-1-for-kindergarten-and-elementary/
END:VEVENT
BEGIN:VEVENT
DTSTART;VALUE=DATE:20210601
DTEND;VALUE=DATE:20210701
DTSTAMP:20260419T171555
CREATED:20200723T234403Z
LAST-MODIFIED:20210429T195426Z
UID:3091-1622505600-1625097599@www.kawaiahaoschool.org
SUMMARY:Summer Session 1 for Primary
DESCRIPTION:June 1- June 30\, 2021 \nSummer Session 1 begins for Primary Program
URL:https://www.kawaiahaoschool.org/event/summer-session-1/
END:VEVENT
BEGIN:VEVENT
DTSTART;TZID=Pacific/Honolulu:20210513T144500
DTEND;TZID=Pacific/Honolulu:20210513T144500
DTSTAMP:20260419T171555
CREATED:20210113T191613Z
LAST-MODIFIED:20210322T215331Z
UID:3245-1620917100-1620917100@www.kawaiahaoschool.org
SUMMARY:School Tour
DESCRIPTION:We offer school tours about twice-a-month\, or by appointment if there is an opening in the respective program. This is a chance for prospective families to visit our school.  Please register for a School Tour using this link. \nDue to COVID-19 precautions\, we are not offering school tours during school hours. We also limit the groups to less than 7 people and ask that all attendees wear masks and practice social distancing. The majority of the school tour will be done outdoors\, with a chance to walk through some classrooms. \nDIRECTIONS/PARKING \nWe are located near Honolulu Hale and Kawaiahaʻo Church on 872 Mission Lane\, just past the Mission Houses in downtown Honolulu. \nParking can be limited. Please arrive early to allow time to find time for parking: \n1. There are 4 designated drop off/pick up stalls on the left side of our staff parking lot (entrance to the staff lot is on the right\, just after our school).  You may use these stalls\, or any open stalls\, that are not reserved. \n2. There is also metered parking along Kawaiahaʻo Street\, Mission Lane\, South Street\, and Punchbowl Street. \nOnce you park and head towards 872 Mission Lane\,  the entrance of our school is facing Ewa (towards the Kawaiahaʻo Church clock tower). \nYou will see a fire lane near the playground structures\, so please walk down that lane and turn the corner\, where you will see a courtyard and flagpole. Please wait near the flagpole at the entrance of our school\, or check in at (right next to the flagpole) \, where we will do a short welcome and orientation. \nPlease notify us as soon as possible\, if you are not able to make it to the tour\, or would like to reschedule\, so we can offer the space to another interested family. Mahalo and we look forward to meeting with you!
URL:https://www.kawaiahaoschool.org/event/school-tour-36/
END:VEVENT
BEGIN:VEVENT
DTSTART;TZID=Pacific/Honolulu:20210429T144500
DTEND;TZID=Pacific/Honolulu:20210429T153000
DTSTAMP:20260419T171555
CREATED:20210113T191716Z
LAST-MODIFIED:20210324T185729Z
UID:3249-1619707500-1619710200@www.kawaiahaoschool.org
SUMMARY:School Tour
DESCRIPTION:We offer school tours about twice-a-month\, or by appointment if there is an opening in the respective program. This is a chance for prospective families to visit our school.  Please register for a School Tour using this link. \nDue to COVID-19 precautions\, we are not offering school tours during school hours. We also limit the groups to less than 7 people and ask that all attendees wear masks and practice social distancing. The majority of the school tour will be done outdoors\, with a chance to walk through some classrooms. \nDIRECTIONS/PARKING \nWe are located near Honolulu Hale and Kawaiahaʻo Church on 872 Mission Lane\, just past the Mission Houses in downtown Honolulu. \nParking can be limited. Please arrive early to allow time to find time for parking: \n1. There are 4 designated drop off/pick up stalls on the left side of our staff parking lot (entrance to the staff lot is on the right\, just after our school).  You may use these stalls\, or any open stalls\, that are not reserved. \n2. There is also metered parking along Kawaiahaʻo Street\, Mission Lane\, South Street\, and Punchbowl Street. \nOnce you park and head towards 872 Mission Lane\,  the entrance of our school is facing Ewa (towards the Kawaiahaʻo Church clock tower). \nYou will see a fire lane near the playground structures\, so please walk down that lane and turn the corner\, where you will see a courtyard and flagpole. Please wait near the flagpole at the entrance of our school\, or check in at (right next to the flagpole) \, where we will do a short welcome and orientation. \nPlease notify us as soon as possible\, if you are not able to make it to the tour\, or would like to reschedule\, so we can offer the space to another interested family. Mahalo and we look forward to meeting with you!
URL:https://www.kawaiahaoschool.org/event/school-tour-38/
END:VEVENT
BEGIN:VEVENT
DTSTART;TZID=Pacific/Honolulu:20210429T080000
DTEND;TZID=Pacific/Honolulu:20210429T170000
DTSTAMP:20260419T171555
CREATED:20210430T000845Z
LAST-MODIFIED:20210430T000845Z
UID:3464-1619683200-1619715600@www.kawaiahaoschool.org
SUMMARY:Prince Kūhiō Holiday
DESCRIPTION:Prince Kūhiō Holiday- no school
URL:https://www.kawaiahaoschool.org/event/prince-kuhio-holiday/
END:VEVENT
BEGIN:VEVENT
DTSTART;TZID=Pacific/Honolulu:20210414T144500
DTEND;TZID=Pacific/Honolulu:20210414T153000
DTSTAMP:20260419T171555
CREATED:20210113T191447Z
LAST-MODIFIED:20210322T215025Z
UID:3240-1618411500-1618414200@www.kawaiahaoschool.org
SUMMARY:School Tour
DESCRIPTION:We offer school tours about twice-a-month\, or by appointment if there is an opening in the respective program. This is a chance for prospective families to visit our school.  Please register for a School Tour using this link. \nDue to COVID-19 precautions\, we are not offering school tours during school hours. We also limit the groups to less than 7 people and ask that all attendees wear masks and practice social distancing. The majority of the school tour will be done outdoors\, with a chance to walk through some classrooms. \nDIRECTIONS/PARKING \nWe are located near Honolulu Hale and Kawaiahaʻo Church on 872 Mission Lane\, just past the Mission Houses in downtown Honolulu. \nParking can be limited. Please arrive early to allow time to find time for parking: \n1. There are 4 designated drop off/pick up stalls on the left side of our staff parking lot (entrance to the staff lot is on the right\, just after our school).  You may use these stalls\, or any open stalls\, that are not reserved. \n2. There is also metered parking along Kawaiahaʻo Street\, Mission Lane\, South Street\, and Punchbowl Street. \nOnce you park and head towards 872 Mission Lane\,  the entrance of our school is facing Ewa (towards the Kawaiahaʻo Church clock tower). \nYou will see a fire lane near the playground structures\, so please walk down that lane and turn the corner\, where you will see a courtyard and flagpole. Please wait near the flagpole at the entrance of our school\, or check in at (right next to the flagpole) \, where we will do a short welcome and orientation. \nPlease notify us as soon as possible\, if you are not able to make it to the tour\, or would like to reschedule\, so we can offer the space to another interested family. Mahalo and we look forward to meeting with you!
URL:https://www.kawaiahaoschool.org/event/school-tour-34/
END:VEVENT
BEGIN:VEVENT
DTSTART;VALUE=DATE:20210402
DTEND;VALUE=DATE:20210403
DTSTAMP:20260419T171555
CREATED:20200723T234314Z
LAST-MODIFIED:20200723T234314Z
UID:3089-1617321600-1617407999@www.kawaiahaoschool.org
SUMMARY:Holiday- no school
DESCRIPTION:
URL:https://www.kawaiahaoschool.org/event/holiday-no-school-8/
END:VEVENT
BEGIN:VEVENT
DTSTART;TZID=Pacific/Honolulu:20210331T144500
DTEND;TZID=Pacific/Honolulu:20210331T153000
DTSTAMP:20260419T171555
CREATED:20210113T191246Z
LAST-MODIFIED:20210113T191246Z
UID:3234-1617201900-1617204600@www.kawaiahaoschool.org
SUMMARY:School Tour
DESCRIPTION:We offer school tours about twice-a-month\, or by appointment if there is an opening in the respective program. This is a chance for prospective families to visit our school.  Please register for a School Tour using this link. \nDue to COVID-19 precautions\, we are not offering school tours during school hours. We also limit the groups to less than 5 people and ask that all attendees wear masks and practice social distancing. The majority of the school tour will be done outdoors\, with a chance to walk through some classrooms. \nDIRECTIONS/PARKING \nWe are located near Honolulu Hale and Kawaiahaʻo Church on 872 Mission Lane\, just past the Mission Houses in downtown Honolulu. \nParking can be limited. Please arrive early to allow time to find time for parking: \n1. There are 4 designated drop off/pick up stalls on the left side of our staff parking lot (entrance to the staff lot is on the right\, just after our school).  You may use these stalls\, or any open stalls\, that are not reserved. \n2. There is also metered parking along Kawaiahaʻo Street\, Mission Lane\, South Street\, and Punchbowl Street. \nOnce you park and head towards 872 Mission Lane\,  the entrance of our school is facing Ewa (towards the Kawaiahaʻo Church clock tower). \nYou will see a fire lane near the playground structures\, so please walk down that lane and turn the corner\, where you will see a courtyard and flagpole. Please wait near the flagpole at the entrance of our school\, or check in at (right next to the flagpole) \, where we will do a short welcome and orientation. \nPlease notify us as soon as possible\, if you are not able to make it to the tour\, or would like to reschedule\, so we can offer the space to another interested family. Mahalo and we look forward to meeting with you!
URL:https://www.kawaiahaoschool.org/event/school-tour-31/
END:VEVENT
BEGIN:VEVENT
DTSTART;VALUE=DATE:20210326
DTEND;VALUE=DATE:20210327
DTSTAMP:20260419T171555
CREATED:20200723T234244Z
LAST-MODIFIED:20200723T234244Z
UID:3087-1616716800-1616803199@www.kawaiahaoschool.org
SUMMARY:Holiday- no school
DESCRIPTION:
URL:https://www.kawaiahaoschool.org/event/holiday-no-school-7/
END:VEVENT
BEGIN:VEVENT
DTSTART;VALUE=DATE:20210315
DTEND;VALUE=DATE:20210320
DTSTAMP:20260419T171555
CREATED:20200723T234219Z
LAST-MODIFIED:20200723T234219Z
UID:3085-1615766400-1616198399@www.kawaiahaoschool.org
SUMMARY:Spring Break- no school
DESCRIPTION:Spring Break is the week of March 15\, 2021 through March 19\, 2021
URL:https://www.kawaiahaoschool.org/event/spring-break-no-school/
END:VEVENT
END:VCALENDAR