BEGIN:VCALENDAR
VERSION:2.0
PRODID:-//Kawaiahaʻo Church School - ECPv6.15.13.1//NONSGML v1.0//EN
CALSCALE:GREGORIAN
METHOD:PUBLISH
X-ORIGINAL-URL:https://www.kawaiahaoschool.org
X-WR-CALDESC:Events for Kawaiahaʻo Church School
REFRESH-INTERVAL;VALUE=DURATION:PT1H
X-Robots-Tag:noindex
X-PUBLISHED-TTL:PT1H
BEGIN:VTIMEZONE
TZID:Pacific/Honolulu
BEGIN:STANDARD
TZOFFSETFROM:-1000
TZOFFSETTO:-1000
TZNAME:HST
DTSTART:20230101T000000
END:STANDARD
END:VTIMEZONE
BEGIN:VEVENT
DTSTART;TZID=Pacific/Honolulu:20240928T070000
DTEND;TZID=Pacific/Honolulu:20240928T123000
DTSTAMP:20260419T151958
CREATED:20240826T235204Z
LAST-MODIFIED:20240826T235204Z
UID:4940-1727506800-1727526600@www.kawaiahaoschool.org
SUMMARY:Aloha Festivals Floral Parade
DESCRIPTION:Kawaiahaʻo Church is providing a double-decker bus for church members and for our keiki and their parent\, with staff to ride along proudly bidding our aloha to all attending the Parade!  If you and your keiki are interested in joining this fun event\, please sign up on the sheet in your keikiʻs class.
URL:https://www.kawaiahaoschool.org/event/aloha-festivals-floral-parade/
LOCATION:Kawaiaha’o Church
END:VEVENT
BEGIN:VEVENT
DTSTART;VALUE=DATE:20241014
DTEND;VALUE=DATE:20241015
DTSTAMP:20260419T151958
CREATED:20240701T185808Z
LAST-MODIFIED:20240701T185808Z
UID:4837-1728864000-1728950399@www.kawaiahaoschool.org
SUMMARY:Indigenous People's Day Holiday
DESCRIPTION:
URL:https://www.kawaiahaoschool.org/event/indigenous-peoples-day-holiday/
CATEGORIES:Holiday
END:VEVENT
BEGIN:VEVENT
DTSTART;VALUE=DATE:20241021
DTEND;VALUE=DATE:20241026
DTSTAMP:20260419T151958
CREATED:20241002T161049Z
LAST-MODIFIED:20241002T161049Z
UID:5110-1729468800-1729900799@www.kawaiahaoschool.org
SUMMARY:Spirit Week
DESCRIPTION:Monday – Pajama Day \nTuesday – God’s Creation Day \nWednesday – Class Spirit Day \nThursday – Wacky Clothes/Hair Day \nFriday – Aloha or Sports Wear Day
URL:https://www.kawaiahaoschool.org/event/spirit-week-5/
END:VEVENT
BEGIN:VEVENT
DTSTART;TZID=Pacific/Honolulu:20241023T154500
DTEND;TZID=Pacific/Honolulu:20241023T164500
DTSTAMP:20260419T151958
CREATED:20240826T235425Z
LAST-MODIFIED:20241002T035852Z
UID:4944-1729698300-1729701900@www.kawaiahaoschool.org
SUMMARY:KPO Meeting
DESCRIPTION:Kaleihiwa Parent Organization (KPO) meeting to discuss upcoming events
URL:https://www.kawaiahaoschool.org/event/kpo-meeting-19/
LOCATION:Kawaiaha’o Church School Gymnasium Youth Room
CATEGORIES:KPO
END:VEVENT
BEGIN:VEVENT
DTSTART;TZID=Pacific/Honolulu:20241025T150000
DTEND;TZID=Pacific/Honolulu:20241025T170000
DTSTAMP:20260419T151958
CREATED:20240826T235635Z
LAST-MODIFIED:20240826T235635Z
UID:4946-1729868400-1729875600@www.kawaiahaoschool.org
SUMMARY:Walk-a-thon
DESCRIPTION:
URL:https://www.kawaiahaoschool.org/event/walk-a-thon/
LOCATION:Kawaiahaʻo Church School gymnasium
END:VEVENT
BEGIN:VEVENT
DTSTART;TZID=Pacific/Honolulu:20241030T080000
DTEND;TZID=Pacific/Honolulu:20241030T203000
DTSTAMP:20260419T151958
CREATED:20241002T161803Z
LAST-MODIFIED:20241002T162003Z
UID:5112-1730275200-1730320200@www.kawaiahaoschool.org
SUMMARY:Hale Pule
DESCRIPTION:Keiki are welcome to wear aloha attire \n 
URL:https://www.kawaiahaoschool.org/event/hale-pule/
END:VEVENT
BEGIN:VEVENT
DTSTART;VALUE=DATE:20241031
DTEND;VALUE=DATE:20241101
DTSTAMP:20260419T151958
CREATED:20241002T161932Z
LAST-MODIFIED:20241002T161932Z
UID:5115-1730332800-1730419199@www.kawaiahaoschool.org
SUMMARY:Trick or Treating at Kawaiaha'o Plaza
DESCRIPTION:
URL:https://www.kawaiahaoschool.org/event/trick-or-treating-at-kawaiahao-plaza/
END:VEVENT
BEGIN:VEVENT
DTSTART;VALUE=DATE:20241111
DTEND;VALUE=DATE:20241112
DTSTAMP:20260419T151958
CREATED:20240701T185746Z
LAST-MODIFIED:20240701T185746Z
UID:4846-1731283200-1731369599@www.kawaiahaoschool.org
SUMMARY:Veteren's Day Holiday
DESCRIPTION:
URL:https://www.kawaiahaoschool.org/event/veterens-day-holiday/
CATEGORIES:Holiday
END:VEVENT
BEGIN:VEVENT
DTSTART;TZID=Pacific/Honolulu:20241120T154500
DTEND;TZID=Pacific/Honolulu:20241120T164500
DTSTAMP:20260419T151958
CREATED:20240826T235810Z
LAST-MODIFIED:20241002T035639Z
UID:4948-1732117500-1732121100@www.kawaiahaoschool.org
SUMMARY:KPO Meeting
DESCRIPTION:Kaleihiwa Parent Organization (KPO) Meeting to discuss upcoming events
URL:https://www.kawaiahaoschool.org/event/kpo-meeting-20/
LOCATION:Kawaiaha’o Church School Gymnasium Youth Room
CATEGORIES:KPO
END:VEVENT
BEGIN:VEVENT
DTSTART;VALUE=DATE:20241128
DTEND;VALUE=DATE:20241130
DTSTAMP:20260419T151958
CREATED:20240701T185915Z
LAST-MODIFIED:20240701T185950Z
UID:4848-1732752000-1732924799@www.kawaiahaoschool.org
SUMMARY:Thanksgiving Holiday - No School
DESCRIPTION:
URL:https://www.kawaiahaoschool.org/event/thanksgiving-holiday-no-school/
CATEGORIES:Holiday
END:VEVENT
BEGIN:VEVENT
DTSTART;TZID=Pacific/Honolulu:20241204T154500
DTEND;TZID=Pacific/Honolulu:20241204T164500
DTSTAMP:20260419T151958
CREATED:20240826T235927Z
LAST-MODIFIED:20240826T235927Z
UID:4950-1733327100-1733330700@www.kawaiahaoschool.org
SUMMARY:KPO Meeting
DESCRIPTION:Kaleihiwa Parent Organization (KPO) Meeting to discuss upcoming events
URL:https://www.kawaiahaoschool.org/event/kpo-meeting-21/
LOCATION:Kawaiaha’o Church School Gymnasium Youth Room
CATEGORIES:KPO
END:VEVENT
BEGIN:VEVENT
DTSTART;TZID=Pacific/Honolulu:20241207T150000
DTEND;TZID=Pacific/Honolulu:20241207T210000
DTSTAMP:20260419T151958
CREATED:20240827T001631Z
LAST-MODIFIED:20240827T001631Z
UID:4955-1733583600-1733605200@www.kawaiahaoschool.org
SUMMARY:Honolulu City Lights
DESCRIPTION:Please support our (KPO) at the Honolulu City & County Tree Lighting Ceremony.   A booth will be located in front of  Lunalilo’s Tomb from 3pm-9pm. 
URL:https://www.kawaiahaoschool.org/event/honolulu-city-lights/
LOCATION:Kawaiaha’o Church
CATEGORIES:KPO
END:VEVENT
BEGIN:VEVENT
DTSTART;VALUE=DATE:20241219
DTEND;VALUE=DATE:20241220
DTSTAMP:20260419T151958
CREATED:20240827T004136Z
LAST-MODIFIED:20240827T004136Z
UID:4961-1734566400-1734652799@www.kawaiahaoschool.org
SUMMARY:Christmas Chapel Setup
DESCRIPTION:
URL:https://www.kawaiahaoschool.org/event/christmas-chapel-setup/
LOCATION:Kawaiaha’o Church
CATEGORIES:KPO
END:VEVENT
BEGIN:VEVENT
DTSTART;TZID=Pacific/Honolulu:20241220T090000
DTEND;TZID=Pacific/Honolulu:20241220T103000
DTSTAMP:20260419T151958
CREATED:20240827T003446Z
LAST-MODIFIED:20240827T003446Z
UID:4959-1734685200-1734690600@www.kawaiahaoschool.org
SUMMARY:Christmas Chapel
DESCRIPTION:All are invited to attend our school ‘Aha Kalikimaka/Christmas Chapel.  We will be celebrating the birth of Jesus and enjoy all the amazing performances by our Keiki.  Church doors will be open at 8:00 a.m.  Reserved seating areas will be labeled.  Our program will start promptly at 9:00 a.m.  After the program you will be able to take your child back to his/her classroom to enjoy a fun craft activity!  Remember this day will be NOON DISMISSAL!
URL:https://www.kawaiahaoschool.org/event/christmas-chapel/
LOCATION:Kawaiaha’o Church
END:VEVENT
BEGIN:VEVENT
DTSTART;VALUE=DATE:20241223
DTEND;VALUE=DATE:20250104
DTSTAMP:20260419T151958
CREATED:20240701T195053Z
LAST-MODIFIED:20240701T195053Z
UID:4854-1734912000-1735948799@www.kawaiahaoschool.org
SUMMARY:Winter Break - No School
DESCRIPTION:
URL:https://www.kawaiahaoschool.org/event/winter-break-no-school-2/
CATEGORIES:Holiday
END:VEVENT
BEGIN:VEVENT
DTSTART;VALUE=DATE:20250113
DTEND;VALUE=DATE:20250125
DTSTAMP:20260419T151958
CREATED:20240827T004625Z
LAST-MODIFIED:20240827T004625Z
UID:4967-1736726400-1737763199@www.kawaiahaoschool.org
SUMMARY:Parent/Teacher Conference
DESCRIPTION:
URL:https://www.kawaiahaoschool.org/event/parent-teacher-conference-2/
END:VEVENT
BEGIN:VEVENT
DTSTART;TZID=Pacific/Honolulu:20250115T154500
DTEND;TZID=Pacific/Honolulu:20250115T164500
DTSTAMP:20260419T151958
CREATED:20240827T000030Z
LAST-MODIFIED:20240827T000030Z
UID:4953-1736955900-1736959500@www.kawaiahaoschool.org
SUMMARY:KPO Meeting
DESCRIPTION:Kaleihiwa Parent Organization (KPO) Meeting to discuss upcoming events
URL:https://www.kawaiahaoschool.org/event/kpo-meeting-22/
LOCATION:Kawaiaha’o Church School Gymnasium Youth Room
CATEGORIES:KPO
END:VEVENT
BEGIN:VEVENT
DTSTART;VALUE=DATE:20250120
DTEND;VALUE=DATE:20250121
DTSTAMP:20260419T151958
CREATED:20240701T195132Z
LAST-MODIFIED:20240701T195132Z
UID:4856-1737331200-1737417599@www.kawaiahaoschool.org
SUMMARY:Martin Luther King Jr. Day Holiday
DESCRIPTION:
URL:https://www.kawaiahaoschool.org/event/martin-luther-king-jr-day-holiday/
CATEGORIES:Holiday
END:VEVENT
BEGIN:VEVENT
DTSTART;TZID=Pacific/Honolulu:20250122T080000
DTEND;TZID=Pacific/Honolulu:20250122T083000
DTSTAMP:20260419T151958
CREATED:20241009T230447Z
LAST-MODIFIED:20241009T230447Z
UID:5131-1737532800-1737534600@www.kawaiahaoschool.org
SUMMARY:Hale Pule (Chapel)
DESCRIPTION:
URL:https://www.kawaiahaoschool.org/event/hale-pule-chapel/
END:VEVENT
BEGIN:VEVENT
DTSTART;TZID=Pacific/Honolulu:20250131T090000
DTEND;TZID=Pacific/Honolulu:20250131T100000
DTSTAMP:20260419T151958
CREATED:20240701T195253Z
LAST-MODIFIED:20240701T195253Z
UID:4858-1738314000-1738317600@www.kawaiahaoschool.org
SUMMARY:Lā Lunalilo
DESCRIPTION:
URL:https://www.kawaiahaoschool.org/event/la-lunalilo-6/
END:VEVENT
BEGIN:VEVENT
DTSTART;VALUE=DATE:20250201
DTEND;VALUE=DATE:20250301
DTSTAMP:20260419T151958
CREATED:20240701T195344Z
LAST-MODIFIED:20240701T195344Z
UID:4860-1738368000-1740787199@www.kawaiahaoschool.org
SUMMARY:ʻŌlelo Hawaiʻi Month
DESCRIPTION:
URL:https://www.kawaiahaoschool.org/event/%ca%bbolelo-hawai%ca%bbi-month/
END:VEVENT
BEGIN:VEVENT
DTSTART;TZID=Pacific/Honolulu:20250205T154500
DTEND;TZID=Pacific/Honolulu:20250205T164500
DTSTAMP:20260419T151958
CREATED:20241222T035126Z
LAST-MODIFIED:20241222T035126Z
UID:5294-1738770300-1738773900@www.kawaiahaoschool.org
SUMMARY:KPO Meeting
DESCRIPTION:
URL:https://www.kawaiahaoschool.org/event/kpo-meeting-23/
LOCATION:Kawaiaha’o Church School Gymnasium Youth Room
CATEGORIES:KPO
END:VEVENT
BEGIN:VEVENT
DTSTART;VALUE=DATE:20250217
DTEND;VALUE=DATE:20250218
DTSTAMP:20260419T151958
CREATED:20240701T195447Z
LAST-MODIFIED:20240701T195447Z
UID:4862-1739750400-1739836799@www.kawaiahaoschool.org
SUMMARY:Presidents' Day Holiday
DESCRIPTION:
URL:https://www.kawaiahaoschool.org/event/presidents-day-holiday-5/
CATEGORIES:Holiday
END:VEVENT
BEGIN:VEVENT
DTSTART;TZID=Pacific/Honolulu:20250305T154500
DTEND;TZID=Pacific/Honolulu:20250305T164500
DTSTAMP:20260419T151958
CREATED:20250116T021445Z
LAST-MODIFIED:20250116T021445Z
UID:5319-1741189500-1741193100@www.kawaiahaoschool.org
SUMMARY:KPO Meeting
DESCRIPTION:
URL:https://www.kawaiahaoschool.org/event/kpo-meeting-24/
LOCATION:Kawaiaha’o Church School Gymnasium Youth Room
CATEGORIES:KPO
END:VEVENT
BEGIN:VEVENT
DTSTART;VALUE=DATE:20250317
DTEND;VALUE=DATE:20250322
DTSTAMP:20260419T151958
CREATED:20240701T195755Z
LAST-MODIFIED:20240701T195755Z
UID:4864-1742169600-1742601599@www.kawaiahaoschool.org
SUMMARY:Spring Break No School
DESCRIPTION:
URL:https://www.kawaiahaoschool.org/event/spring-break-no-school-7/
END:VEVENT
BEGIN:VEVENT
DTSTART;VALUE=DATE:20250326
DTEND;VALUE=DATE:20250327
DTSTAMP:20260419T151958
CREATED:20240701T195827Z
LAST-MODIFIED:20240701T195827Z
UID:4866-1742947200-1743033599@www.kawaiahaoschool.org
SUMMARY:Prince Kuhio Day Holiday
DESCRIPTION:
URL:https://www.kawaiahaoschool.org/event/prince-kuhio-day-holiday/
CATEGORIES:Holiday
END:VEVENT
BEGIN:VEVENT
DTSTART;VALUE=DATE:20250418
DTEND;VALUE=DATE:20250419
DTSTAMP:20260419T151958
CREATED:20240701T195901Z
LAST-MODIFIED:20240701T195901Z
UID:4868-1744934400-1745020799@www.kawaiahaoschool.org
SUMMARY:Good Friday Holiday
DESCRIPTION:
URL:https://www.kawaiahaoschool.org/event/good-friday-holiday-3/
CATEGORIES:Holiday
END:VEVENT
BEGIN:VEVENT
DTSTART;VALUE=DATE:20250420
DTEND;VALUE=DATE:20250421
DTSTAMP:20260419T151958
CREATED:20240701T200002Z
LAST-MODIFIED:20240701T200002Z
UID:4872-1745107200-1745193599@www.kawaiahaoschool.org
SUMMARY:Easter Holiday
DESCRIPTION:
URL:https://www.kawaiahaoschool.org/event/easter-holiday/
CATEGORIES:Holiday
END:VEVENT
BEGIN:VEVENT
DTSTART;VALUE=DATE:20250421
DTEND;VALUE=DATE:20250422
DTSTAMP:20260419T151958
CREATED:20240701T195931Z
LAST-MODIFIED:20240701T195931Z
UID:4870-1745193600-1745279999@www.kawaiahaoschool.org
SUMMARY:Teacher in Service Day No School
DESCRIPTION:
URL:https://www.kawaiahaoschool.org/event/teacher-in-service-day-no-school-5/
END:VEVENT
BEGIN:VEVENT
DTSTART;TZID=Pacific/Honolulu:20250423T154500
DTEND;TZID=Pacific/Honolulu:20250423T164500
DTSTAMP:20260419T151958
CREATED:20250116T021518Z
LAST-MODIFIED:20250116T021518Z
UID:5321-1745423100-1745426700@www.kawaiahaoschool.org
SUMMARY:KPO Meeting
DESCRIPTION:
URL:https://www.kawaiahaoschool.org/event/kpo-meeting-25/
LOCATION:Kawaiaha’o Church School Gymnasium Youth Room
CATEGORIES:KPO
END:VEVENT
END:VCALENDAR