BEGIN:VCALENDAR
VERSION:2.0
PRODID:-//Kawaiahaʻo Church School - ECPv6.15.13.1//NONSGML v1.0//EN
CALSCALE:GREGORIAN
METHOD:PUBLISH
X-WR-CALNAME:Kawaiahaʻo Church School
X-ORIGINAL-URL:https://www.kawaiahaoschool.org
X-WR-CALDESC:Events for Kawaiahaʻo Church School
REFRESH-INTERVAL;VALUE=DURATION:PT1H
X-Robots-Tag:noindex
X-PUBLISHED-TTL:PT1H
BEGIN:VTIMEZONE
TZID:Pacific/Honolulu
BEGIN:STANDARD
TZOFFSETFROM:-1000
TZOFFSETTO:-1000
TZNAME:HST
DTSTART:20230101T000000
END:STANDARD
END:VTIMEZONE
BEGIN:VEVENT
DTSTART;VALUE=DATE:20240329
DTEND;VALUE=DATE:20240330
DTSTAMP:20260419T085729
CREATED:20240315T230616Z
LAST-MODIFIED:20240315T230616Z
UID:4656-1711670400-1711756799@www.kawaiahaoschool.org
SUMMARY:GOOD FRIDAY - NO SCHOOL
DESCRIPTION:
URL:https://www.kawaiahaoschool.org/event/good-friday-no-school-2/
END:VEVENT
BEGIN:VEVENT
DTSTART;TZID=Pacific/Honolulu:20240405T080000
DTEND;TZID=Pacific/Honolulu:20240405T120000
DTSTAMP:20260419T085729
CREATED:20240315T230753Z
LAST-MODIFIED:20240315T230753Z
UID:4659-1712304000-1712318400@www.kawaiahaoschool.org
SUMMARY:KPO - Easter Egg Hunt for KCS students
DESCRIPTION:
URL:https://www.kawaiahaoschool.org/event/kpo-easter-egg-hunt-for-kcs-students/
END:VEVENT
BEGIN:VEVENT
DTSTART;VALUE=DATE:20240422
DTEND;VALUE=DATE:20240423
DTSTAMP:20260419T085729
CREATED:20240315T230840Z
LAST-MODIFIED:20240315T230840Z
UID:4661-1713744000-1713830399@www.kawaiahaoschool.org
SUMMARY:TEACHER IN-SERVICE DAY - NO SCHOOL
DESCRIPTION:
URL:https://www.kawaiahaoschool.org/event/teacher-in-service-day-no-school-4/
END:VEVENT
BEGIN:VEVENT
DTSTART;VALUE=DATE:20240503
DTEND;VALUE=DATE:20240504
DTSTAMP:20260419T085729
CREATED:20230928T184324Z
LAST-MODIFIED:20230928T184324Z
UID:4385-1714694400-1714780799@www.kawaiahaoschool.org
SUMMARY:May Day
DESCRIPTION:Noon Dismissal
URL:https://www.kawaiahaoschool.org/event/may-day/
END:VEVENT
BEGIN:VEVENT
DTSTART;VALUE=DATE:20240507
DTEND;VALUE=DATE:20240508
DTSTAMP:20260419T085729
CREATED:20230928T184354Z
LAST-MODIFIED:20230928T184354Z
UID:4387-1715040000-1715126399@www.kawaiahaoschool.org
SUMMARY:Teacher Appreciation Day
DESCRIPTION:
URL:https://www.kawaiahaoschool.org/event/teacher-appreciation-day-2/
END:VEVENT
BEGIN:VEVENT
DTSTART;VALUE=DATE:20240513
DTEND;VALUE=DATE:20240518
DTSTAMP:20260419T085729
CREATED:20230928T184545Z
LAST-MODIFIED:20230928T184545Z
UID:4390-1715558400-1715990399@www.kawaiahaoschool.org
SUMMARY:Parent/Teacher Conference Week
DESCRIPTION:
URL:https://www.kawaiahaoschool.org/event/parent-teacher-conference-week-2/
END:VEVENT
BEGIN:VEVENT
DTSTART;VALUE=DATE:20240527
DTEND;VALUE=DATE:20240528
DTSTAMP:20260419T085729
CREATED:20230928T184744Z
LAST-MODIFIED:20230928T184744Z
UID:4393-1716768000-1716854399@www.kawaiahaoschool.org
SUMMARY:Memorial Day Holiday
DESCRIPTION:No school
URL:https://www.kawaiahaoschool.org/event/memorial-day-holiday-4/
END:VEVENT
BEGIN:VEVENT
DTSTART;VALUE=DATE:20240529
DTEND;VALUE=DATE:20240530
DTSTAMP:20260419T085729
CREATED:20230928T185130Z
LAST-MODIFIED:20230928T185130Z
UID:4395-1716940800-1717027199@www.kawaiahaoschool.org
SUMMARY:Last day of school
DESCRIPTION:Kamali’i & Kula Ha’aha’a
URL:https://www.kawaiahaoschool.org/event/last-day-of-school-2/
END:VEVENT
BEGIN:VEVENT
DTSTART;VALUE=DATE:20240603
DTEND;VALUE=DATE:20240801
DTSTAMP:20260419T085729
CREATED:20230928T185315Z
LAST-MODIFIED:20230928T185315Z
UID:4397-1717372800-1722470399@www.kawaiahaoschool.org
SUMMARY:Summer School
DESCRIPTION:Preschool/Elementary
URL:https://www.kawaiahaoschool.org/event/summer-school/
END:VEVENT
BEGIN:VEVENT
DTSTART;VALUE=DATE:20240611
DTEND;VALUE=DATE:20240612
DTSTAMP:20260419T085729
CREATED:20230928T185411Z
LAST-MODIFIED:20230928T185411Z
UID:4399-1718064000-1718150399@www.kawaiahaoschool.org
SUMMARY:Kamehameha Day Holiday
DESCRIPTION:No school
URL:https://www.kawaiahaoschool.org/event/kamehameha-day-holiday-3/
END:VEVENT
BEGIN:VEVENT
DTSTART;VALUE=DATE:20240619
DTEND;VALUE=DATE:20240620
DTSTAMP:20260419T085729
CREATED:20230928T185442Z
LAST-MODIFIED:20230928T185442Z
UID:4401-1718755200-1718841599@www.kawaiahaoschool.org
SUMMARY:Juneteenth Holiday
DESCRIPTION:No school
URL:https://www.kawaiahaoschool.org/event/juneteenth-holiday/
END:VEVENT
BEGIN:VEVENT
DTSTART;VALUE=DATE:20240704
DTEND;VALUE=DATE:20240705
DTSTAMP:20260419T085729
CREATED:20230928T185604Z
LAST-MODIFIED:20230928T185604Z
UID:4404-1720051200-1720137599@www.kawaiahaoschool.org
SUMMARY:July 4th Holiday
DESCRIPTION:No school
URL:https://www.kawaiahaoschool.org/event/july-4th-holiday/
END:VEVENT
BEGIN:VEVENT
DTSTART;VALUE=DATE:20240731
DTEND;VALUE=DATE:20240801
DTSTAMP:20260419T085729
CREATED:20230928T185701Z
LAST-MODIFIED:20230928T185701Z
UID:4406-1722384000-1722470399@www.kawaiahaoschool.org
SUMMARY:Kama Iki last day of school
DESCRIPTION:
URL:https://www.kawaiahaoschool.org/event/kama-iki-last-day-of-school/
END:VEVENT
BEGIN:VEVENT
DTSTART;VALUE=DATE:20240819
DTEND;VALUE=DATE:20240820
DTSTAMP:20260419T085729
CREATED:20230928T185727Z
LAST-MODIFIED:20230928T185727Z
UID:4408-1724025600-1724111999@www.kawaiahaoschool.org
SUMMARY:First day of school
DESCRIPTION:
URL:https://www.kawaiahaoschool.org/event/first-day-of-school-6/
END:VEVENT
BEGIN:VEVENT
DTSTART;VALUE=DATE:20240903
DTEND;VALUE=DATE:20240904
DTSTAMP:20260419T085729
CREATED:20240628T012917Z
LAST-MODIFIED:20240628T012917Z
UID:4826-1725321600-1725407999@www.kawaiahaoschool.org
SUMMARY:Labor Day Holiday
DESCRIPTION:
URL:https://www.kawaiahaoschool.org/event/labor-day-holiday-7/
CATEGORIES:Holiday
END:VEVENT
BEGIN:VEVENT
DTSTART;TZID=Pacific/Honolulu:20240904T154500
DTEND;TZID=Pacific/Honolulu:20240904T164500
DTSTAMP:20260419T085729
CREATED:20240826T214608Z
LAST-MODIFIED:20240826T214608Z
UID:4933-1725464700-1725468300@www.kawaiahaoschool.org
SUMMARY:KPO Meeting
DESCRIPTION:Kaleihiwa Parent Organization (KPO) \nDiscuss KPO Family Movie Night
URL:https://www.kawaiahaoschool.org/event/kpo-meeting-17/
LOCATION:Kawaiaha’o Church School Gymnasium Youth Room
CATEGORIES:KPO
END:VEVENT
BEGIN:VEVENT
DTSTART;TZID=Pacific/Honolulu:20240913T170000
DTEND;TZID=Pacific/Honolulu:20240913T170000
DTSTAMP:20260419T085729
CREATED:20240826T215120Z
LAST-MODIFIED:20240905T200317Z
UID:4935-1726246800-1726246800@www.kawaiahaoschool.org
SUMMARY:KPO Family Movie Night
DESCRIPTION:Presented by Kaleihiwa Parent Organization (KPO) \nMadagascar \nDoors open at 5pm / Movie Begins at 6pm \nBring your own picnic blanket & kick off the school year with food\, games\, & more! \nAdults $10\, keiki $5 – Tickets include entry\, water\, popcorn\, ice cream sundae\, and games.  All keiki age 2 and over must be ticketed. \nPreorders due by Monday\, September 9th.  Limited tickets and food options are available for purchase at the event. \nSignup for a volunteer shift \nhttps://www.signupgenius.com/go/10C0A4CA9AE2FAAF5C16-50976809-kpomovie#/ \nAll proceeds go towards the KPO budget. \nMahalo for your support!
URL:https://www.kawaiahaoschool.org/event/kpo-family-movie-night/
LOCATION:Kawaiahaʻo Church School gymnasium
CATEGORIES:KPO
END:VEVENT
BEGIN:VEVENT
DTSTART;TZID=Pacific/Honolulu:20240925T080000
DTEND;TZID=Pacific/Honolulu:20240925T090000
DTSTAMP:20260419T085729
CREATED:20240827T012532Z
LAST-MODIFIED:20240827T012532Z
UID:4976-1727251200-1727254800@www.kawaiahaoschool.org
SUMMARY:Chapel
DESCRIPTION:Hale Pule (Chapel)  Services at Kawaiaha’o Church \n 
URL:https://www.kawaiahaoschool.org/event/chapel-21/
LOCATION:Kawaiaha’o Church
END:VEVENT
BEGIN:VEVENT
DTSTART;TZID=Pacific/Honolulu:20240925T154500
DTEND;TZID=Pacific/Honolulu:20240925T164500
DTSTAMP:20260419T085729
CREATED:20240826T225547Z
LAST-MODIFIED:20240826T225547Z
UID:4938-1727279100-1727282700@www.kawaiahaoschool.org
SUMMARY:KPO Meeting
DESCRIPTION:Kaleihiwa Parent Organization (KPO) meeting to discuss upcoming events
URL:https://www.kawaiahaoschool.org/event/kpo-meeting-18/
LOCATION:Kawaiaha’o Church School Gymnasium Youth Room
CATEGORIES:KPO
END:VEVENT
BEGIN:VEVENT
DTSTART;VALUE=DATE:20240926
DTEND;VALUE=DATE:20240928
DTSTAMP:20260419T085729
CREATED:20240827T004325Z
LAST-MODIFIED:20240827T004449Z
UID:4963-1727308800-1727481599@www.kawaiahaoschool.org
SUMMARY:Perfect Portraits
DESCRIPTION:classrooms will be notified of the dates for keiki portraits
URL:https://www.kawaiahaoschool.org/event/spirit-week-4/
END:VEVENT
BEGIN:VEVENT
DTSTART;TZID=Pacific/Honolulu:20240928T070000
DTEND;TZID=Pacific/Honolulu:20240928T123000
DTSTAMP:20260419T085729
CREATED:20240826T235204Z
LAST-MODIFIED:20240826T235204Z
UID:4940-1727506800-1727526600@www.kawaiahaoschool.org
SUMMARY:Aloha Festivals Floral Parade
DESCRIPTION:Kawaiahaʻo Church is providing a double-decker bus for church members and for our keiki and their parent\, with staff to ride along proudly bidding our aloha to all attending the Parade!  If you and your keiki are interested in joining this fun event\, please sign up on the sheet in your keikiʻs class.
URL:https://www.kawaiahaoschool.org/event/aloha-festivals-floral-parade/
LOCATION:Kawaiaha’o Church
END:VEVENT
BEGIN:VEVENT
DTSTART;VALUE=DATE:20241014
DTEND;VALUE=DATE:20241015
DTSTAMP:20260419T085729
CREATED:20240701T185808Z
LAST-MODIFIED:20240701T185808Z
UID:4837-1728864000-1728950399@www.kawaiahaoschool.org
SUMMARY:Indigenous People's Day Holiday
DESCRIPTION:
URL:https://www.kawaiahaoschool.org/event/indigenous-peoples-day-holiday/
CATEGORIES:Holiday
END:VEVENT
BEGIN:VEVENT
DTSTART;VALUE=DATE:20241021
DTEND;VALUE=DATE:20241026
DTSTAMP:20260419T085729
CREATED:20241002T161049Z
LAST-MODIFIED:20241002T161049Z
UID:5110-1729468800-1729900799@www.kawaiahaoschool.org
SUMMARY:Spirit Week
DESCRIPTION:Monday – Pajama Day \nTuesday – God’s Creation Day \nWednesday – Class Spirit Day \nThursday – Wacky Clothes/Hair Day \nFriday – Aloha or Sports Wear Day
URL:https://www.kawaiahaoschool.org/event/spirit-week-5/
END:VEVENT
BEGIN:VEVENT
DTSTART;TZID=Pacific/Honolulu:20241023T154500
DTEND;TZID=Pacific/Honolulu:20241023T164500
DTSTAMP:20260419T085729
CREATED:20240826T235425Z
LAST-MODIFIED:20241002T035852Z
UID:4944-1729698300-1729701900@www.kawaiahaoschool.org
SUMMARY:KPO Meeting
DESCRIPTION:Kaleihiwa Parent Organization (KPO) meeting to discuss upcoming events
URL:https://www.kawaiahaoschool.org/event/kpo-meeting-19/
LOCATION:Kawaiaha’o Church School Gymnasium Youth Room
CATEGORIES:KPO
END:VEVENT
BEGIN:VEVENT
DTSTART;TZID=Pacific/Honolulu:20241025T150000
DTEND;TZID=Pacific/Honolulu:20241025T170000
DTSTAMP:20260419T085729
CREATED:20240826T235635Z
LAST-MODIFIED:20240826T235635Z
UID:4946-1729868400-1729875600@www.kawaiahaoschool.org
SUMMARY:Walk-a-thon
DESCRIPTION:
URL:https://www.kawaiahaoschool.org/event/walk-a-thon/
LOCATION:Kawaiahaʻo Church School gymnasium
END:VEVENT
BEGIN:VEVENT
DTSTART;TZID=Pacific/Honolulu:20241030T080000
DTEND;TZID=Pacific/Honolulu:20241030T203000
DTSTAMP:20260419T085729
CREATED:20241002T161803Z
LAST-MODIFIED:20241002T162003Z
UID:5112-1730275200-1730320200@www.kawaiahaoschool.org
SUMMARY:Hale Pule
DESCRIPTION:Keiki are welcome to wear aloha attire \n 
URL:https://www.kawaiahaoschool.org/event/hale-pule/
END:VEVENT
BEGIN:VEVENT
DTSTART;VALUE=DATE:20241031
DTEND;VALUE=DATE:20241101
DTSTAMP:20260419T085729
CREATED:20241002T161932Z
LAST-MODIFIED:20241002T161932Z
UID:5115-1730332800-1730419199@www.kawaiahaoschool.org
SUMMARY:Trick or Treating at Kawaiaha'o Plaza
DESCRIPTION:
URL:https://www.kawaiahaoschool.org/event/trick-or-treating-at-kawaiahao-plaza/
END:VEVENT
BEGIN:VEVENT
DTSTART;VALUE=DATE:20241111
DTEND;VALUE=DATE:20241112
DTSTAMP:20260419T085729
CREATED:20240701T185746Z
LAST-MODIFIED:20240701T185746Z
UID:4846-1731283200-1731369599@www.kawaiahaoschool.org
SUMMARY:Veteren's Day Holiday
DESCRIPTION:
URL:https://www.kawaiahaoschool.org/event/veterens-day-holiday/
CATEGORIES:Holiday
END:VEVENT
BEGIN:VEVENT
DTSTART;TZID=Pacific/Honolulu:20241120T154500
DTEND;TZID=Pacific/Honolulu:20241120T164500
DTSTAMP:20260419T085729
CREATED:20240826T235810Z
LAST-MODIFIED:20241002T035639Z
UID:4948-1732117500-1732121100@www.kawaiahaoschool.org
SUMMARY:KPO Meeting
DESCRIPTION:Kaleihiwa Parent Organization (KPO) Meeting to discuss upcoming events
URL:https://www.kawaiahaoschool.org/event/kpo-meeting-20/
LOCATION:Kawaiaha’o Church School Gymnasium Youth Room
CATEGORIES:KPO
END:VEVENT
BEGIN:VEVENT
DTSTART;VALUE=DATE:20241128
DTEND;VALUE=DATE:20241130
DTSTAMP:20260419T085729
CREATED:20240701T185915Z
LAST-MODIFIED:20240701T185950Z
UID:4848-1732752000-1732924799@www.kawaiahaoschool.org
SUMMARY:Thanksgiving Holiday - No School
DESCRIPTION:
URL:https://www.kawaiahaoschool.org/event/thanksgiving-holiday-no-school/
CATEGORIES:Holiday
END:VEVENT
END:VCALENDAR