BEGIN:VCALENDAR
VERSION:2.0
PRODID:-//Kawaiahaʻo Church School - ECPv6.15.13.1//NONSGML v1.0//EN
CALSCALE:GREGORIAN
METHOD:PUBLISH
X-WR-CALNAME:Kawaiahaʻo Church School
X-ORIGINAL-URL:https://www.kawaiahaoschool.org
X-WR-CALDESC:Events for Kawaiahaʻo Church School
REFRESH-INTERVAL;VALUE=DURATION:PT1H
X-Robots-Tag:noindex
X-PUBLISHED-TTL:PT1H
BEGIN:VTIMEZONE
TZID:Pacific/Honolulu
BEGIN:STANDARD
TZOFFSETFROM:-1000
TZOFFSETTO:-1000
TZNAME:HST
DTSTART:20180101T000000
END:STANDARD
END:VTIMEZONE
BEGIN:VEVENT
DTSTART;VALUE=DATE:20191028
DTEND;VALUE=DATE:20191102
DTSTAMP:20260420T142839
CREATED:20190718T015113Z
LAST-MODIFIED:20190718T015113Z
UID:2648-1572220800-1572652799@www.kawaiahaoschool.org
SUMMARY:Parent Teacher Conferences
DESCRIPTION:Sign ups for Parent Teacher Conferences will be available in your keiki’s classroom!  Mahalo!
URL:https://www.kawaiahaoschool.org/event/parent-teacher-conferences-3/
END:VEVENT
BEGIN:VEVENT
DTSTART;VALUE=DATE:20191021
DTEND;VALUE=DATE:20191026
DTSTAMP:20260420T142839
CREATED:20190718T015006Z
LAST-MODIFIED:20190718T015006Z
UID:2646-1571616000-1572047999@www.kawaiahaoschool.org
SUMMARY:Spirit Week
DESCRIPTION:Monday- PJ Day \nTuesday- Bible Prophet Day \nWednesday- Class Spirit Day \nThursday- Wacky Hair Day \nFriday- Favorite Role Model Day
URL:https://www.kawaiahaoschool.org/event/spirit-week-2/
END:VEVENT
BEGIN:VEVENT
DTSTART;VALUE=DATE:20191014
DTEND;VALUE=DATE:20191015
DTSTAMP:20260420T142839
CREATED:20190701T204718Z
LAST-MODIFIED:20190701T204718Z
UID:2537-1571011200-1571097599@www.kawaiahaoschool.org
SUMMARY:Columbus Day Holiday
DESCRIPTION:No school today in observance of Columbus Day
URL:https://www.kawaiahaoschool.org/event/columbus-day-holiday/
END:VEVENT
BEGIN:VEVENT
DTSTART;TZID=Pacific/Honolulu:20191010T160000
DTEND;TZID=Pacific/Honolulu:20191010T170000
DTSTAMP:20260420T142839
CREATED:20190718T014858Z
LAST-MODIFIED:20190718T014858Z
UID:2644-1570723200-1570726800@www.kawaiahaoschool.org
SUMMARY:Open House
DESCRIPTION:Please join us for an all-school Open House!  This is a great time to meet our teachers\, visit our classrooms\, and learn more about our programs and curriculum!  We hope you can join us!
URL:https://www.kawaiahaoschool.org/event/open-house-3/
END:VEVENT
BEGIN:VEVENT
DTSTART;TZID=Pacific/Honolulu:20191002T080000
DTEND;TZID=Pacific/Honolulu:20191002T090000
DTSTAMP:20260420T142839
CREATED:20190702T210017Z
LAST-MODIFIED:20190702T213753Z
UID:2583-1570003200-1570006800@www.kawaiahaoschool.org
SUMMARY:Chapel
DESCRIPTION:On the first Wednesdays of each month\, our students along with teachers and staff\, attend chapel at Kawaiahaʻo Church at 8:00am.  Each classroom participates with reciting Bible memory verses\, sharing praise\, and worship music…and families are always welcome to join us!
URL:https://www.kawaiahaoschool.org/event/chapel-11/
END:VEVENT
BEGIN:VEVENT
DTSTART;TZID=Pacific/Honolulu:20190921T100000
DTEND;TZID=Pacific/Honolulu:20190921T140000
DTSTAMP:20260420T142839
CREATED:20190701T204620Z
LAST-MODIFIED:20190701T204620Z
UID:2535-1569060000-1569074400@www.kawaiahaoschool.org
SUMMARY:HAIS Education Fair
DESCRIPTION:10am-2pm at the Convention Center\, Room 313ABC.  Come stop by the Kawaiahaʻo Church School booth!
URL:https://www.kawaiahaoschool.org/event/hais-education-fair/
END:VEVENT
BEGIN:VEVENT
DTSTART;TZID=Pacific/Honolulu:20190918T090000
DTEND;TZID=Pacific/Honolulu:20190918T100000
DTSTAMP:20260420T142839
CREATED:20190705T232855Z
LAST-MODIFIED:20190705T234050Z
UID:2601-1568797200-1568800800@www.kawaiahaoschool.org
SUMMARY:School Tour
DESCRIPTION:We offer school tours once-a-month.  This is a chance for prospective families to visit our school.  We ask that you arrive at 850am\, as the orientation and tours will begin promptly at 9am.  Please call (808)585-0622 to reserve your space! \nDIRECTIONS/PARKING \nWe are located near Honolulu Hale and Kawaiahaʻo Church on 872 Mission Lane\, just past the Mission Houses in downtown Honolulu. \nParking can be limited in the area.  We have several options to consider\,  but please arrive early to allow time to find time for parking: \n\nThere are 4 designated drop off/pick up stalls on the left side of our staff parking lot (entrance to the staff lot is on the right\, just after our school).  Because school tours are at 9am\, after our scheduled drop off/pick up times\, then these stalls will be available for our school tours as well.\n\n2. There is also metered parking along Kawaiahaʻo Street\, Mission Lane\, South Street\, and Punchbowl Street. \nOnce you park and head towards 872 Mission Lane\,  the entrance of our school is facing Ewa (towards the Kawaiahaʻo Church clock tower). \nYou will see a fire lane near the playground structures\, so please walk down that lane and turn the corner\, where you will see a courtyard and flagpole. Please wait near the flagpole at the entrance of our school\, or check in at the office (right next to the flagpole) and we will walk to the 2nd floor Christian Education Room\, where we will do a short welcome and orientation. \nOut of courtesy for the other visiting families and minimizing disruption to classrooms\, we ask that you allow time for parking  so we can begin on time.  If you do arrive late\, please walk up the stairs to the 2nd floor of the school\, where we will be having the welcome\, orientation\, and providing an overview of the school\, programs\, and curriculum\, before we break up into groups for classroom tours.  We look forward to your visit!
URL:https://www.kawaiahaoschool.org/event/school-tour-4/
END:VEVENT
BEGIN:VEVENT
DTSTART;TZID=Pacific/Honolulu:20190917T080000
DTEND;TZID=Pacific/Honolulu:20190920T113000
DTSTAMP:20260420T142839
CREATED:20190706T001008Z
LAST-MODIFIED:20190910T215957Z
UID:2618-1568707200-1568979000@www.kawaiahaoschool.org
SUMMARY:Puddle Ducks- School Portraits
DESCRIPTION:It’s picture day!  Please check with your teacher on the time/date your keiki’s class will be taking pictures!
URL:https://www.kawaiahaoschool.org/event/puddle-ducks-school-portraits-2/
END:VEVENT
BEGIN:VEVENT
DTSTART;VALUE=DATE:20190902
DTEND;VALUE=DATE:20190903
DTSTAMP:20260420T142839
CREATED:20190701T204427Z
LAST-MODIFIED:20190701T204427Z
UID:2533-1567382400-1567468799@www.kawaiahaoschool.org
SUMMARY:Labor Day Holiday
DESCRIPTION:No school today in observance of Labor Day
URL:https://www.kawaiahaoschool.org/event/labor-day-holiday-3/
END:VEVENT
BEGIN:VEVENT
DTSTART;VALUE=DATE:20190819
DTEND;VALUE=DATE:20190820
DTSTAMP:20260420T142839
CREATED:20190701T204018Z
LAST-MODIFIED:20190701T204018Z
UID:2526-1566172800-1566259199@www.kawaiahaoschool.org
SUMMARY:First Day of School!
DESCRIPTION:
URL:https://www.kawaiahaoschool.org/event/first-day-of-school-3/
END:VEVENT
BEGIN:VEVENT
DTSTART;TZID=Pacific/Honolulu:20190815T163000
DTEND;TZID=Pacific/Honolulu:20190815T180000
DTSTAMP:20260420T142839
CREATED:20190701T204123Z
LAST-MODIFIED:20190701T204123Z
UID:2528-1565886600-1565892000@www.kawaiahaoschool.org
SUMMARY:Parent Orientation
DESCRIPTION:Parent Orientation at 4:30-6pm for all current and new families that will be with us for the 2019-20 school year
URL:https://www.kawaiahaoschool.org/event/parent-orientation-3/
END:VEVENT
BEGIN:VEVENT
DTSTART;VALUE=DATE:20190802
DTEND;VALUE=DATE:20190803
DTSTAMP:20260420T142839
CREATED:20190701T204333Z
LAST-MODIFIED:20190701T204333Z
UID:2530-1564704000-1564790399@www.kawaiahaoschool.org
SUMMARY:Last Day of school
DESCRIPTION:Friday\, August 2nd\, marks the last day of our Summer Session 3 for our primary program and the last day for our 2 year-old program\, until school resumes for all on August 19th.  The teachers will be working on their curriculum and setting up their classrooms during the 2-week break.
URL:https://www.kawaiahaoschool.org/event/last-day-of-school/
END:VEVENT
BEGIN:VEVENT
DTSTART;TZID=Pacific/Honolulu:20190710T090000
DTEND;TZID=Pacific/Honolulu:20190710T100000
DTSTAMP:20260420T142839
CREATED:20190402T002225Z
LAST-MODIFIED:20190705T234031Z
UID:2446-1562749200-1562752800@www.kawaiahaoschool.org
SUMMARY:School Tour
DESCRIPTION:We offer school tours once-a-month.  This is a chance for prospective families to visit our school.  We ask that you arrive at 850am\, as the orientation and tours will begin promptly at 9am.  Please call (808)585-0622 to reserve your space! \nDIRECTIONS/PARKING \nWe are located near Honolulu Hale and Kawaiahaʻo Church on 872 Mission Lane\, just past the Mission Houses in downtown Honolulu. \nParking can be limited in the area.  We have several options to consider\,  but please arrive early to allow time to find time for parking: \n\nThere are 4 designated drop off/pick up stalls on the left side of our staff parking lot (entrance to the staff lot is on the right\, just after our school).  Because school tours are at 9am\, after our scheduled drop off/pick up times\, then these stalls will be available for our school tours as well.\n\n2. There is also metered parking along Kawaiahaʻo Street\, Mission Lane\, South Street\, and Punchbowl Street. \nOnce you park and head towards 872 Mission Lane\,  the entrance of our school is facing Ewa (towards the Kawaiahaʻo Church clock tower). \nYou will see a fire lane near the playground structures\, so please walk down that lane and turn the corner\, where you will see a courtyard and flagpole. Please wait near the flagpole at the entrance of our school\, or check in at the office (right next to the flagpole) and we will walk to the 2nd floor Christian Education Room\, where we will do a short welcome and orientation. \nOut of courtesy for the other visiting families and minimizing disruption to classrooms\, we ask that you allow time for parking  so we can begin on time.  If you do arrive late\, please walk up the stairs to the 2nd floor of the school\, where we will be having the welcome\, orientation\, and providing an overview of the school\, programs\, and curriculum\, before we break up into groups for classroom tours.  We look forward to your visit! \n 
URL:https://www.kawaiahaoschool.org/event/school-tour-3/
END:VEVENT
BEGIN:VEVENT
DTSTART;TZID=Pacific/Honolulu:20190701T080000
DTEND;TZID=Pacific/Honolulu:20190701T170000
DTSTAMP:20260420T142839
CREATED:20190701T210433Z
LAST-MODIFIED:20190701T210433Z
UID:2564-1561968000-1562000400@www.kawaiahaoschool.org
SUMMARY:Primary Last Day of School
DESCRIPTION:Last day of school for our primary program.  Elementary’s last day of school is on Friday.  2 year-old program is year-round.
URL:https://www.kawaiahaoschool.org/event/primary-last-day-of-school-3/
END:VEVENT
BEGIN:VEVENT
DTSTART;TZID=Pacific/Honolulu:20190619T090000
DTEND;TZID=Pacific/Honolulu:20190619T100000
DTSTAMP:20260420T142839
CREATED:20190402T002143Z
LAST-MODIFIED:20190402T002143Z
UID:2444-1560934800-1560938400@www.kawaiahaoschool.org
SUMMARY:School Tour
DESCRIPTION:We offer school tours once-a-month.  This is a chance for prospective families to visit our school.  We ask that you arrive at 850am\, as the orientation and tours will begin promptly at 9am.  Please call (808)585-0622 to reserve your space! \nDIRECTIONS/PARKING \nWe are located near Honolulu Hale and Kawaiahaʻo Church on 872 Mission Lane\, just past the Mission Houses in downtown Honolulu. \nParking can be limited in the area.  We have several options to consider\,  but please arrive early to allow time to find time for parking: \n\nThere are 4 designated drop off/pick up stalls on the left side of our staff parking lot (entrance to the staff lot is on the right\, just after our school).  Because school tours are at 9am\, after our scheduled drop off/pick up times\, then these stalls will be available for our school tours as well.\n\n2. There is also metered parking along Kawaiahaʻo Street\, Mission Lane\, South Street\, and Punchbowl Street. \nOnce you park and head towards 872 Mission Lane\,  the entrance of our school is facing Ewa (towards the Kawaiahaʻo Church clock tower). \nYou will see a fire lane near the playground structures\, so please walk down that lane and turn the corner\, where you will see a courtyard and flagpole. Please wait near the flagpole at the entrance of our school\, or check in at the office (right next to the flagpole) and we will walk to the 2nd floor Christian Education Room\, where we will do a short welcome and orientation. \nOut of courtesy for the other visiting families and minimizing disruption to classrooms\, we ask that you allow time for parking  so we can begin on time.  If you do arrive late\, please walk up the stairs to the 2nd floor of the school\, where we will be having the welcome\, orientation\, and providing an overview of the school\, programs\, and curriculum\, before we break up into groups for classroom tours.  We look forward to your visit! \n 
URL:https://www.kawaiahaoschool.org/event/school-tour-2/
END:VEVENT
BEGIN:VEVENT
DTSTART;VALUE=DATE:20190611
DTEND;VALUE=DATE:20190612
DTSTAMP:20260420T142839
CREATED:20180807T003039Z
LAST-MODIFIED:20180807T003039Z
UID:2170-1560211200-1560297599@www.kawaiahaoschool.org
SUMMARY:Kamehameha Day Holiday
DESCRIPTION:King Kamehameha Day\, no school today
URL:https://www.kawaiahaoschool.org/event/kamehameha-day-holiday-2/
END:VEVENT
BEGIN:VEVENT
DTSTART;VALUE=DATE:20190603
DTEND;VALUE=DATE:20190803
DTSTAMP:20260420T142839
CREATED:20180608T220526Z
LAST-MODIFIED:20180608T220526Z
UID:2056-1559520000-1564790399@www.kawaiahaoschool.org
SUMMARY:Summer School 2019
DESCRIPTION:3 Sessions of Summer School will be offered to the Primary-aged keiki (3-6 years old) between June 3- August 2.  More details will be posted to our website in early spring!  Mahalo!
URL:https://www.kawaiahaoschool.org/event/summer-school-2019/
END:VEVENT
BEGIN:VEVENT
DTSTART;VALUE=DATE:20190531
DTEND;VALUE=DATE:20190601
DTSTAMP:20260420T142839
CREATED:20180608T220312Z
LAST-MODIFIED:20180608T220312Z
UID:2052-1559260800-1559347199@www.kawaiahaoschool.org
SUMMARY:Elementary Last Day of School
DESCRIPTION:
URL:https://www.kawaiahaoschool.org/event/elementary-last-day-of-school-3/
END:VEVENT
BEGIN:VEVENT
DTSTART;VALUE=DATE:20190529
DTEND;VALUE=DATE:20190530
DTSTAMP:20260420T142839
CREATED:20180608T220227Z
LAST-MODIFIED:20180608T220227Z
UID:2050-1559088000-1559174399@www.kawaiahaoschool.org
SUMMARY:Preschool Last Day of School
DESCRIPTION:
URL:https://www.kawaiahaoschool.org/event/preschool-last-day-of-school/
END:VEVENT
BEGIN:VEVENT
DTSTART;VALUE=DATE:20190527
DTEND;VALUE=DATE:20190528
DTSTAMP:20260420T142839
CREATED:20180807T002954Z
LAST-MODIFIED:20180807T002954Z
UID:2168-1558915200-1559001599@www.kawaiahaoschool.org
SUMMARY:Memorial Day holiday\, no school
DESCRIPTION:Memorial day holiday\, no school
URL:https://www.kawaiahaoschool.org/event/memorial-day-holiday-no-school/
END:VEVENT
BEGIN:VEVENT
DTSTART;TZID=Pacific/Honolulu:20190520T120000
DTEND;TZID=Pacific/Honolulu:20190524T170000
DTSTAMP:20260420T142839
CREATED:20180621T001331Z
LAST-MODIFIED:20180621T001331Z
UID:2109-1558353600-1558717200@www.kawaiahaoschool.org
SUMMARY:Parent/Teacher Conferences (optional)
DESCRIPTION:
URL:https://www.kawaiahaoschool.org/event/parent-teacher-conferences-optional/
END:VEVENT
BEGIN:VEVENT
DTSTART;TZID=Pacific/Honolulu:20190513T170000
DTEND;TZID=Pacific/Honolulu:20190513T180000
DTSTAMP:20260420T142839
CREATED:20190108T231326Z
LAST-MODIFIED:20190108T231326Z
UID:2311-1557766800-1557770400@www.kawaiahaoschool.org
SUMMARY:KPO Meeting
DESCRIPTION:
URL:https://www.kawaiahaoschool.org/event/kpo-meeting-16/
END:VEVENT
BEGIN:VEVENT
DTSTART;TZID=Pacific/Honolulu:20190509T090000
DTEND;TZID=Pacific/Honolulu:20190509T100000
DTSTAMP:20260420T142839
CREATED:20190402T002057Z
LAST-MODIFIED:20190423T002059Z
UID:2442-1557392400-1557396000@www.kawaiahaoschool.org
SUMMARY:School Tour
DESCRIPTION:We offer school tours once-a-month.  This is a chance for prospective families to visit our school.  We ask that you arrive at 850am\, as the orientation and tours will begin promptly at 9am.  Please call (808)585-0622 to reserve your space! \nDIRECTIONS/PARKING \nWe are located near Honolulu Hale and Kawaiahaʻo Church on 872 Mission Lane\, just past the Mission Houses in downtown Honolulu. \nParking can be limited in the area.  We have several options to consider\,  but please arrive early to allow time to find time for parking: \n\nThere are 4 designated drop off/pick up stalls on the left side of our staff parking lot (entrance to the staff lot is on the right\, just after our school).  Because school tours are at 9am\, after our scheduled drop off/pick up times\, then these stalls will be available for our school tours as well.\n\n2. There is also metered parking along Kawaiahaʻo Street\, Mission Lane\, South Street\, and Punchbowl Street. \nOnce you park and head towards 872 Mission Lane\,  the entrance of our school is facing Ewa (towards the Kawaiahaʻo Church clock tower). \nYou will see a fire lane near the playground structures\, so please walk down that lane and turn the corner\, where you will see a courtyard and flagpole. Please wait near the flagpole at the entrance of our school\, or check in at the office (right next to the flagpole) and we will walk to the 2nd floor Christian Education Room\, where we will do a short welcome and orientation. \nOut of courtesy for the other visiting families and minimizing disruption to classrooms\, we ask that you allow time for parking  so we can begin on time.  If you do arrive late\, please walk up the stairs to the 2nd floor of the school\, where we will be having the welcome\, orientation\, and providing an overview of the school\, programs\, and curriculum\, before we break up into groups for classroom tours.  We look forward to your visit! \n 
URL:https://www.kawaiahaoschool.org/event/school-tour/
END:VEVENT
BEGIN:VEVENT
DTSTART;VALUE=DATE:20190506
DTEND;VALUE=DATE:20190507
DTSTAMP:20260420T142839
CREATED:20180807T002905Z
LAST-MODIFIED:20180807T002905Z
UID:2166-1557100800-1557187199@www.kawaiahaoschool.org
SUMMARY:No School Teacher Appreciation/Staff Day
DESCRIPTION:No school teacher appreciation week/ staff day
URL:https://www.kawaiahaoschool.org/event/no-school-teacher-appreciation-staff-day/
END:VEVENT
BEGIN:VEVENT
DTSTART;TZID=Pacific/Honolulu:20190501T074500
DTEND;TZID=Pacific/Honolulu:20190501T120000
DTSTAMP:20260420T142839
CREATED:20180608T220110Z
LAST-MODIFIED:20180608T220110Z
UID:2048-1556696700-1556712000@www.kawaiahaoschool.org
SUMMARY:May Day - noon dismissal
DESCRIPTION:Happy May Day!  School will be dismissed at noon after May Day ceremony and festivities!
URL:https://www.kawaiahaoschool.org/event/may-day-noon-dismissal/
END:VEVENT
BEGIN:VEVENT
DTSTART;TZID=Pacific/Honolulu:20190418T160000
DTEND;TZID=Pacific/Honolulu:20190418T170000
DTSTAMP:20260420T142839
CREATED:20180621T001213Z
LAST-MODIFIED:20180807T002813Z
UID:2105-1555603200-1555606800@www.kawaiahaoschool.org
SUMMARY:All School Open House and Recycling Art Fair
DESCRIPTION:Everyone welcome!  All current families who would like to talk story with the teachers and see your keiki’s work on display\, and also learn more about the upcoming year\, please come by!  All prospective families who would like to learn more about our school are also welcome to come by our open house from 4-5pm today
URL:https://www.kawaiahaoschool.org/event/all-school-open-house/
END:VEVENT
BEGIN:VEVENT
DTSTART;TZID=Pacific/Honolulu:20190408T170000
DTEND;TZID=Pacific/Honolulu:20190408T180000
DTSTAMP:20260420T142839
CREATED:20190108T231250Z
LAST-MODIFIED:20190108T231250Z
UID:2309-1554742800-1554746400@www.kawaiahaoschool.org
SUMMARY:KPO Meeting
DESCRIPTION:
URL:https://www.kawaiahaoschool.org/event/kpo-meeting-15/
END:VEVENT
BEGIN:VEVENT
DTSTART;VALUE=DATE:20190408
DTEND;VALUE=DATE:20190413
DTSTAMP:20260420T142839
CREATED:20180621T000858Z
LAST-MODIFIED:20180621T000858Z
UID:2103-1554681600-1555113599@www.kawaiahaoschool.org
SUMMARY:SATs Grades 3-6
DESCRIPTION:
URL:https://www.kawaiahaoschool.org/event/sats-grades-3-6/
END:VEVENT
BEGIN:VEVENT
DTSTART;VALUE=DATE:20190326
DTEND;VALUE=DATE:20190327
DTSTAMP:20260420T142839
CREATED:20180807T002721Z
LAST-MODIFIED:20180807T002721Z
UID:2162-1553558400-1553644799@www.kawaiahaoschool.org
SUMMARY:Prince Kuhio Day\, no school
DESCRIPTION:Happy Prince Kuhio Day!  No school today
URL:https://www.kawaiahaoschool.org/event/prince-kuhio-day-no-school/
END:VEVENT
BEGIN:VEVENT
DTSTART;VALUE=DATE:20190318
DTEND;VALUE=DATE:20190323
DTSTAMP:20260420T142839
CREATED:20180608T215255Z
LAST-MODIFIED:20180608T215734Z
UID:2044-1552867200-1553299199@www.kawaiahaoschool.org
SUMMARY:Spring Break!
DESCRIPTION:Spring Break from March 18-22nd
URL:https://www.kawaiahaoschool.org/event/spring-break-2/
END:VEVENT
END:VCALENDAR