BEGIN:VCALENDAR
VERSION:2.0
PRODID:-//Kawaiahaʻo Church School - ECPv6.15.13.1//NONSGML v1.0//EN
CALSCALE:GREGORIAN
METHOD:PUBLISH
X-WR-CALNAME:Kawaiahaʻo Church School
X-ORIGINAL-URL:https://www.kawaiahaoschool.org
X-WR-CALDESC:Events for Kawaiahaʻo Church School
REFRESH-INTERVAL;VALUE=DURATION:PT1H
X-Robots-Tag:noindex
X-PUBLISHED-TTL:PT1H
BEGIN:VTIMEZONE
TZID:Pacific/Honolulu
BEGIN:STANDARD
TZOFFSETFROM:-1000
TZOFFSETTO:-1000
TZNAME:HST
DTSTART:20240101T000000
END:STANDARD
END:VTIMEZONE
BEGIN:VEVENT
DTSTART;TZID=Pacific/Honolulu:20251024T150000
DTEND;TZID=Pacific/Honolulu:20251024T170000
DTSTAMP:20260421T115323
CREATED:20250613T223040Z
LAST-MODIFIED:20251011T015835Z
UID:5482-1761318000-1761325200@www.kawaiahaoschool.org
SUMMARY:WALK-A-THON Fundraising Event
DESCRIPTION:Join us for Kawaiahaʻo Church School’s Annual Walk-A-Thon! \nThis year’s theme is a Flashback to the ’70s and ’80s — complete with a parent-and-keiki dance-off! Cheer on our haumāna as they walk\, jog\, and skip laps around the gymnasium to see just how far they can go — and find out who will be crowned the top dancer in each class! \nYour sponsorship helps support our keiki and keeps our amazing kula — this hidden gem in the heart of Honolulu — shining bright. Donations can be made anytime via PayPal using the button below. \nSo pull out your bell bottoms\, lace up those sneakers\, and come join the fun! Walk\, dance\, or just cheer us on — every step helps raise funds for our school’s future. \nOur Walkathon page is https://www.kawaiahaoschool.org/walkathon/.
URL:https://www.kawaiahaoschool.org/event/walk-a-thon-fundraising-event/
END:VEVENT
BEGIN:VEVENT
DTSTART;VALUE=DATE:20251027
DTEND;VALUE=DATE:20251101
DTSTAMP:20260421T115323
CREATED:20250613T222911Z
LAST-MODIFIED:20250613T222911Z
UID:5479-1761523200-1761955199@www.kawaiahaoschool.org
SUMMARY:KCS Spirit Week!
DESCRIPTION:
URL:https://www.kawaiahaoschool.org/event/kcs-spirit-week/
END:VEVENT
BEGIN:VEVENT
DTSTART;TZID=Pacific/Honolulu:20251029T080000
DTEND;TZID=Pacific/Honolulu:20251029T083000
DTSTAMP:20260421T115323
CREATED:20250613T223357Z
LAST-MODIFIED:20250613T223357Z
UID:5487-1761724800-1761726600@www.kawaiahaoschool.org
SUMMARY:Hale Pule (Chapel)
DESCRIPTION:
URL:https://www.kawaiahaoschool.org/event/hale-pule-chapel-2/
END:VEVENT
BEGIN:VEVENT
DTSTART;TZID=Pacific/Honolulu:20251126T080000
DTEND;TZID=Pacific/Honolulu:20251126T083000
DTSTAMP:20260421T115323
CREATED:20250613T224547Z
LAST-MODIFIED:20250613T224547Z
UID:5491-1764144000-1764145800@www.kawaiahaoschool.org
SUMMARY:Hale Pule (Chapel)
DESCRIPTION:
URL:https://www.kawaiahaoschool.org/event/hale-pule-chapel-3/
END:VEVENT
BEGIN:VEVENT
DTSTART;VALUE=DATE:20251127
DTEND;VALUE=DATE:20251128
DTSTAMP:20260421T115323
CREATED:20250613T224812Z
LAST-MODIFIED:20250613T224812Z
UID:5493-1764201600-1764287999@www.kawaiahaoschool.org
SUMMARY:Thanksgiving Day Holiday - NO SCHOOL
DESCRIPTION:
URL:https://www.kawaiahaoschool.org/event/thanksgiving-day-holiday-no-school/
END:VEVENT
BEGIN:VEVENT
DTSTART;TZID=Pacific/Honolulu:20251129T130000
DTEND;TZID=Pacific/Honolulu:20251129T210000
DTSTAMP:20260421T115323
CREATED:20251119T221504Z
LAST-MODIFIED:20251119T221504Z
UID:5796-1764421200-1764450000@www.kawaiahaoschool.org
SUMMARY:KPO Honolulu City Lights Food & Merch Booth
DESCRIPTION:
URL:https://www.kawaiahaoschool.org/event/kpo-honolulu-city-lights-food-merch-booth/
LOCATION:Kawaiaha’o Church
END:VEVENT
BEGIN:VEVENT
DTSTART;TZID=Pacific/Honolulu:20251130T093000
DTEND;TZID=Pacific/Honolulu:20251130T110000
DTSTAMP:20260421T115323
CREATED:20251119T221756Z
LAST-MODIFIED:20251119T221756Z
UID:5798-1764495000-1764500400@www.kawaiahaoschool.org
SUMMARY:KCS at Kawaiahaʻo Church Sunday Service
DESCRIPTION:Come worship with our KCS ohana as our keiki lead Kawaiahaʻo Church Service!
URL:https://www.kawaiahaoschool.org/event/kcs-at-kawaiaha%ca%bbo-church-sunday-service/
END:VEVENT
BEGIN:VEVENT
DTSTART;TZID=Pacific/Honolulu:20251219T080000
DTEND;TZID=Pacific/Honolulu:20251219T090000
DTSTAMP:20260421T115323
CREATED:20251119T222239Z
LAST-MODIFIED:20251119T222239Z
UID:5800-1766131200-1766134800@www.kawaiahaoschool.org
SUMMARY:ʻAha Kalikimaka (Kawaiahaʻo Church School Christmas Program)
DESCRIPTION:Friends and family are warmly invited to join us for our annual Christmas Program\, featuring performances by our students and faculty\, along with a special holiday message from Kahu Kenneth Makuakane.
URL:https://www.kawaiahaoschool.org/event/%ca%bbaha-kalikimaka-kawaiaha%ca%bbo-church-school-christmas-program/
END:VEVENT
END:VCALENDAR